BEGIN:VCALENDAR
VERSION:2.0
PRODID:-//BInvest - ECPv6.15.20//NONSGML v1.0//EN
CALSCALE:GREGORIAN
METHOD:PUBLISH
X-WR-CALNAME:BInvest
X-ORIGINAL-URL:https://binvest-ev.org
X-WR-CALDESC:Veranstaltungen für BInvest
REFRESH-INTERVAL;VALUE=DURATION:PT1H
X-Robots-Tag:noindex
X-PUBLISHED-TTL:PT1H
BEGIN:VTIMEZONE
TZID:UTC
BEGIN:STANDARD
TZOFFSETFROM:+0000
TZOFFSETTO:+0000
TZNAME:UTC
DTSTART:20220101T000000
END:STANDARD
END:VTIMEZONE
BEGIN:VTIMEZONE
TZID:UTC
BEGIN:STANDARD
TZOFFSETFROM:+0000
TZOFFSETTO:+0000
TZNAME:UTC
DTSTART:20220101T000000
END:STANDARD
END:VTIMEZONE
BEGIN:VEVENT
DTSTART;TZID=UTC:20230523T180000
DTEND;TZID=UTC:20230523T200000
DTSTAMP:20260423T073548
CREATED:20230523T162924Z
LAST-MODIFIED:20230523T164001Z
UID:1368-1684864800-1684872000@binvest-ev.org
SUMMARY:BInvest Social Mai 2023
DESCRIPTION:Lust auf eine entspannte und unterhaltsame Zeit in angenehmer Atmosphäre? Der BInvest lädt dich herzlich zu einem mitreißenden Billardabend ein! Nehmt eure Queue-Stöcke in die Hand und zeigt euer Talent beim spannenden Spiel auf den grünen Tischen des Billard Café in der Bielefelder Innenstadt. \n\n\n\nEgal\, ob ihr erfahrene Billardspieler seid oder eure ersten Schritte auf dem grünen Filz wagt\, dieser Abend verspricht Spaß\, Wettbewerb und jede Menge Gelächter. Zusätzlich übernehmen wir die Kosten für die Billardtische. \n\n\n\nWir freuen uns darauf\, euch in lockerer und geselliger Runde zusammenzubringen\, um eure Fähigkeiten beim Billardspiel zu messen. Taucht einfach im Billard Café auf! Keine Anmeldung erforderlich\, kommt einfach vorbei und genießt einen Abend voller Spaß und spannender Billardpartien.
URL:https://binvest-ev.org/event/binvest-social-mai-2023/
LOCATION:Billard Café\, Feilenstraße 10\, Bielefeld\, 33602\, Deutschland
CATEGORIES:Social Event
ORGANIZER;CN="BInvest e.V.":MAILTO:info@binvest-ev.org
END:VEVENT
BEGIN:VEVENT
DTSTART;TZID=UTC:20230527T190000
DTEND;TZID=UTC:20230527T210000
DTSTAMP:20260423T073548
CREATED:20230523T181020Z
LAST-MODIFIED:20230526T154025Z
UID:1377-1685214000-1685221200@binvest-ev.org
SUMMARY:BInvest Social - Billard
DESCRIPTION:Lust auf eine entspannte und unterhaltsame Zeit in angenehmer Atmosphäre? Der BInvest lädt euch herzlich zu einem mitreißenden Billardabend ein! Nehmt eure Queue-Stöcke in die Hand und zeigt euer Talent beim spannenden Spiel auf den grünen Tischen des ‚Billard Café‘ in der Bielefelder Innenstadt. \n\n\n\nEgal\, ob ihr erfahrene Billardspieler seid oder eure ersten Schritte auf dem grünen Filz wagt\, dieser Abend verspricht Spaß und Wettbewerb. Der Verein übernimmt die Kosten für die Billardtische\, sodass ihr euch voll und ganz auf das Spiel konzentrieren könnt. \n\n\n\nWir freuen uns darauf\, euch in lockerer und geselliger Runde zusammenzubringen\, um eure Fähigkeiten beim Billardspiel zu messen. Taucht einfach im ‚Billard Café‘ auf! Keine Anmeldung erforderlich\, kommt einfach vorbei und genießt einen Abend voller Spaß und spannender Billardpartien.
URL:https://binvest-ev.org/event/binvest-social-bowling-2/
LOCATION:Billard Café\, Feilenstraße 10\, Bielefeld\, 33602\, Deutschland
CATEGORIES:Social Event
ORGANIZER;CN="BInvest e.V.":MAILTO:info@binvest-ev.org
END:VEVENT
END:VCALENDAR