BEGIN:VCALENDAR
VERSION:2.0
PRODID:-//BInvest - ECPv6.15.20//NONSGML v1.0//EN
CALSCALE:GREGORIAN
METHOD:PUBLISH
X-ORIGINAL-URL:https://binvest-ev.org
X-WR-CALDESC:Veranstaltungen für BInvest
REFRESH-INTERVAL;VALUE=DURATION:PT1H
X-Robots-Tag:noindex
X-PUBLISHED-TTL:PT1H
BEGIN:VTIMEZONE
TZID:Europe/Berlin
BEGIN:DAYLIGHT
TZOFFSETFROM:+0100
TZOFFSETTO:+0200
TZNAME:CEST
DTSTART:20220327T010000
END:DAYLIGHT
BEGIN:STANDARD
TZOFFSETFROM:+0200
TZOFFSETTO:+0100
TZNAME:CET
DTSTART:20221030T010000
END:STANDARD
BEGIN:DAYLIGHT
TZOFFSETFROM:+0100
TZOFFSETTO:+0200
TZNAME:CEST
DTSTART:20230326T010000
END:DAYLIGHT
BEGIN:STANDARD
TZOFFSETFROM:+0200
TZOFFSETTO:+0100
TZNAME:CET
DTSTART:20231029T010000
END:STANDARD
BEGIN:DAYLIGHT
TZOFFSETFROM:+0100
TZOFFSETTO:+0200
TZNAME:CEST
DTSTART:20240331T010000
END:DAYLIGHT
BEGIN:STANDARD
TZOFFSETFROM:+0200
TZOFFSETTO:+0100
TZNAME:CET
DTSTART:20241027T010000
END:STANDARD
END:VTIMEZONE
BEGIN:VEVENT
DTSTART;TZID=Europe/Berlin:20230711T190000
DTEND;TZID=Europe/Berlin:20230711T210000
DTSTAMP:20260423T044941
CREATED:20230628T195859Z
LAST-MODIFIED:20230628T195901Z
UID:1435-1689102000-1689109200@binvest-ev.org
SUMMARY:BInvest & Friends im Juli
DESCRIPTION:📢 Verpasst nicht unseren spannenden Investment-Stammtisch! 📢 \n\n\n\nLiebe Mitglieder\, \n\n\n\nIhr seid herzlich eingeladen\, unseren kommenden Investment-Stammtisch zu besuchen und Eure finanziellen Ziele auf ein neues Level zu heben! Taucht ein in ein engagiertes Netzwerk von gleichgesinnten Studierenden\, tauscht Wissen aus und entdeckt gemeinsam neue Anlagemöglichkeiten. \n\n\n\n✅ Erweitert Euer Wissen: Gemeinsam erkunden wir verschiedene Investmentstrategien\, diskutieren aktuelle Finanzthemen und teilen praktische Erfahrungen. \n\n\n\n✅ Knüpft wertvolle Kontakte: Nutzt die Gelegenheit\, Euch mit anderen Studierenden der Universität Bielefeld zu vernetzen\, Ideen auszutauschen und langfristige Beziehungen aufzubauen. \n\n\n\n✅ Stärkt Eure finanzielle Zukunft: Lernt\, wie Ihr Euer Geld sinnvoll investieren könnt\, um finanzielle Unabhängigkeit zu erreichen und langfristigen Wohlstand aufzubauen. \n\n\n\nMacht den ersten Schritt zu Eurem finanziellen Erfolg und sichert Euch Eure Plätze! Markiert den kommenden Dienstag in Eurem Kalender und nehmt am Investment-Stammtisch teil. \n\n\n\nWir freuen uns auf einen inspirierenden und erkenntnisreichen Abend mit Euch! \n\n\n\n#Investment #Networking #Finanzen #UniBielefeld #Stammtisch
URL:https://binvest-ev.org/event/binvest-friends-im-juli/
ORGANIZER;CN="BInvest e.V.":MAILTO:info@binvest-ev.org
END:VEVENT
END:VCALENDAR