BEGIN:VCALENDAR
VERSION:2.0
PRODID:-//BInvest - ECPv6.15.20//NONSGML v1.0//EN
CALSCALE:GREGORIAN
METHOD:PUBLISH
X-WR-CALNAME:BInvest
X-ORIGINAL-URL:https://binvest-ev.org
X-WR-CALDESC:Veranstaltungen für BInvest
REFRESH-INTERVAL;VALUE=DURATION:PT1H
X-Robots-Tag:noindex
X-PUBLISHED-TTL:PT1H
BEGIN:VTIMEZONE
TZID:Europe/Berlin
BEGIN:DAYLIGHT
TZOFFSETFROM:+0100
TZOFFSETTO:+0200
TZNAME:CEST
DTSTART:20220327T010000
END:DAYLIGHT
BEGIN:STANDARD
TZOFFSETFROM:+0200
TZOFFSETTO:+0100
TZNAME:CET
DTSTART:20221030T010000
END:STANDARD
BEGIN:DAYLIGHT
TZOFFSETFROM:+0100
TZOFFSETTO:+0200
TZNAME:CEST
DTSTART:20230326T010000
END:DAYLIGHT
BEGIN:STANDARD
TZOFFSETFROM:+0200
TZOFFSETTO:+0100
TZNAME:CET
DTSTART:20231029T010000
END:STANDARD
BEGIN:DAYLIGHT
TZOFFSETFROM:+0100
TZOFFSETTO:+0200
TZNAME:CEST
DTSTART:20240331T010000
END:DAYLIGHT
BEGIN:STANDARD
TZOFFSETFROM:+0200
TZOFFSETTO:+0100
TZNAME:CET
DTSTART:20241027T010000
END:STANDARD
END:VTIMEZONE
BEGIN:VEVENT
DTSTART;TZID=Europe/Berlin:20230808T190000
DTEND;TZID=Europe/Berlin:20230808T210000
DTSTAMP:20260423T032921
CREATED:20230628T200142Z
LAST-MODIFIED:20230628T200144Z
UID:1439-1691521200-1691528400@binvest-ev.org
SUMMARY:BInvest & Friends im August
DESCRIPTION:📢 Verpasst nicht unseren spannenden Investment-Stammtisch! 📢 \n\n\n\nLiebe Mitglieder\, \n\n\n\nIhr seid herzlich eingeladen\, unseren kommenden Investment-Stammtisch zu besuchen und Eure finanziellen Ziele auf ein neues Level zu heben! Taucht ein in ein engagiertes Netzwerk von gleichgesinnten Studierenden\, tauscht Wissen aus und entdeckt gemeinsam neue Anlagemöglichkeiten. \n\n\n\n✅ Erweitert Euer Wissen: Gemeinsam erkunden wir verschiedene Investmentstrategien\, diskutieren aktuelle Finanzthemen und teilen praktische Erfahrungen. \n\n\n\n✅ Knüpft wertvolle Kontakte: Nutzt die Gelegenheit\, Euch mit anderen Studierenden der Universität Bielefeld zu vernetzen\, Ideen auszutauschen und langfristige Beziehungen aufzubauen. \n\n\n\n✅ Stärkt Eure finanzielle Zukunft: Lernt\, wie Ihr Euer Geld sinnvoll investieren könnt\, um finanzielle Unabhängigkeit zu erreichen und langfristigen Wohlstand aufzubauen. \n\n\n\nMacht den ersten Schritt zu Eurem finanziellen Erfolg und sichert Euch Eure Plätze! Markiert den kommenden Dienstag in Eurem Kalender und nehmt am Investment-Stammtisch teil. \n\n\n\nWir freuen uns auf einen inspirierenden und erkenntnisreichen Abend mit Euch! \n\n\n\n#Investment #Networking #Finanzen #UniBielefeld #Stammtisch
URL:https://binvest-ev.org/event/binvest-friends-im-august/
LOCATION:Pappelkrug\, Wertherstraße 311\, Bielefeld\, 33619\, Deutschland
ORGANIZER;CN="BInvest e.V.":MAILTO:info@binvest-ev.org
END:VEVENT
BEGIN:VEVENT
DTSTART;TZID=Europe/Berlin:20230815T180000
DTEND;TZID=Europe/Berlin:20230815T190000
DTSTAMP:20260423T032921
CREATED:20230814T144342Z
LAST-MODIFIED:20230814T144344Z
UID:1519-1692122400-1692126000@binvest-ev.org
SUMMARY:BInvest Portfolio-Gruppe
DESCRIPTION:Als stolzes Mitglied des Bundesverbands der Börsenvereine an deutschen Hochschulen (BVH) e.V. stellen wir uns der Portfolio-Challenge des Dachverbands. 💪📊 \n\n\n\nIn unserer Portfolio-Gruppe diskutieren wir leidenschaftlich über interessante Handelsideen und tauschen uns über die aktuellen Entwicklungen in der Marktwirtschaft und auf dem Kapitalmarkt aus. Hier spüren wir den Puls der Finanzwelt und nutzen unsere Treffen\, um wertvolle Erkenntnisse zu gewinnen\, die uns auf unserem Weg zum Erfolg begleiten. 💬📈 \n\n\n\nDabei geht es bei uns nicht nur um theoretisches Grundlagen – wir legen großen Wert auf den Ausbau der Softkills unserer Mitglieder bei Präsentationen. In den Präsentationen werden börsennotierte Unternehmen analysiert und Volkswirtschaften oder ganze Branchen und Sektoren bewertet. Sie dienen insbesondere als Vorbereitung für einen erfolgreiche Teilnahme an der jährlichen Stock Pitch Competition\, wo Mitglieder ihr Können unter Beweis stellen und von einer fachkundigen Jury beurteilt werden. 📈🌐 \n\n\n\nIn unserem Verein legen wir großen Wert auf Exzellenz\, das Entdecken von Chancen und das Schmieden von Verbindungen\, die über die Welt der Finanzen hinausgehen. 💡🤝 \n\n\n\nWir sind stolz darauf\, Teil dieses inspirierenden Netzwerks zu sein.💼🏆Gemeinsam werden wir Großes erreichen! 🚀🌟
URL:https://binvest-ev.org/event/binvest-portfolio-gruppe/
LOCATION:Universität Bielefeld\, Universitätsstraße 25\, Bielefeld\, 33615
ORGANIZER;CN="BInvest e.V.":MAILTO:info@binvest-ev.org
END:VEVENT
BEGIN:VEVENT
DTSTART;TZID=Europe/Berlin:20230818T180000
DTEND;TZID=Europe/Berlin:20230818T235900
DTSTAMP:20260423T032921
CREATED:20230628T195240Z
LAST-MODIFIED:20230810T072449Z
UID:1432-1692381600-1692403140@binvest-ev.org
SUMMARY:BInvest Sommerfest
DESCRIPTION:Liebe Mitglieder\, \n\n\n\nwir laden euch herzlich zu unserem bevorstehenden Sommersfest des BInvest ein! Am Samstag\, den 18. August\, wollen wir gemeinsam einen unvergesslichen Tag voller Spaß\, Networking und guter Gesellschaft verbringen. \n\n\n\n⛱️ Vielfältige Aktivitäten: Aufgrund der aktuellen Trockenheit kann es sein\, dass wir in diesem Jahr nicht grillen können wie im vergangenen Jahr. Doch keine Sorge\, wir haben bereits Alternativen organisiert\, um sicherzustellen\, dass das Sommersfest trotzdem ein Highlight wird. Freut euch auf andere leckere Speisen und erfrischende Getränke! \n\n\n\n🏐 Sport und Bewegung: Wir sind dabei\, ein Volleyballfeld hinter dem X-Gebäude zu reservieren\, damit ihr euch sportlich betätigen und eure Volleyball-Fähigkeiten unter Beweis stellen könnt. Kommt vorbei\, habt Spaß und knüpft neue Kontakte auf dem Feld! \n\n\n\n🎊 Gemeinschaft stärken: Unser Sommersfest bietet die perfekte Gelegenheit\, um eure Verbindungen innerhalb der BInvest-Community zu vertiefen. Tauscht Ideen aus\, knüpft neue Kontakte und genießt die Gesellschaft von Gleichgesinnten in entspannter Atmosphäre. \n\n\n\nMerkt euch das Datum vor und seid dabei! Das BInvest Sommersfest verspricht ein Tag voller Freude\, Networking und Sommerstimmung zu werden. \n\n\n\nWir freuen uns darauf\, gemeinsam mit euch eine unvergessliche Zeit zu verbringen! \n\n\n\n#Sommersfest #Networking #Community #BInvest
URL:https://binvest-ev.org/event/binvest-sommerfest/
LOCATION:Universität Bielefeld\, Universitätsstraße 25\, Bielefeld\, 33615
ORGANIZER;CN="BInvest e.V.":MAILTO:info@binvest-ev.org
END:VEVENT
BEGIN:VEVENT
DTSTART;TZID=Europe/Berlin:20230822T180000
DTEND;TZID=Europe/Berlin:20230822T190000
DTSTAMP:20260423T032921
CREATED:20230814T144614Z
LAST-MODIFIED:20230814T144616Z
UID:1521-1692727200-1692730800@binvest-ev.org
SUMMARY:BInvest Portfolio-Gruppe
DESCRIPTION:Als stolzes Mitglied des Bundesverbands der Börsenvereine an deutschen Hochschulen (BVH) e.V. stellen wir uns der Portfolio-Challenge des Dachverbands. 💪📊 \n\n\n\nIn unserer Portfolio-Gruppe diskutieren wir leidenschaftlich über interessante Handelsideen und tauschen uns über die aktuellen Entwicklungen in der Marktwirtschaft und auf dem Kapitalmarkt aus. Hier spüren wir den Puls der Finanzwelt und nutzen unsere Treffen\, um wertvolle Erkenntnisse zu gewinnen\, die uns auf unserem Weg zum Erfolg begleiten. 💬📈 \n\n\n\nDabei geht es bei uns nicht nur um theoretisches Grundlagen – wir legen großen Wert auf den Ausbau der Softkills unserer Mitglieder bei Präsentationen. In den Präsentationen werden börsennotierte Unternehmen analysiert und Volkswirtschaften oder ganze Branchen und Sektoren bewertet. Sie dienen insbesondere als Vorbereitung für einen erfolgreiche Teilnahme an der jährlichen Stock Pitch Competition\, wo Mitglieder ihr Können unter Beweis stellen und von einer fachkundigen Jury beurteilt werden. 📈🌐 \n\n\n\nIn unserem Verein legen wir großen Wert auf Exzellenz\, das Entdecken von Chancen und das Schmieden von Verbindungen\, die über die Welt der Finanzen hinausgehen. 💡🤝 \n\n\n\nWir sind stolz darauf\, Teil dieses inspirierenden Netzwerks zu sein.💼🏆Gemeinsam werden wir Großes erreichen! 🚀🌟
URL:https://binvest-ev.org/event/binvest-portfolio-gruppe-2/
LOCATION:Universität Bielefeld\, Universitätsstraße 25\, Bielefeld\, 33615
ORGANIZER;CN="BInvest e.V.":MAILTO:info@binvest-ev.org
END:VEVENT
END:VCALENDAR