BEGIN:VCALENDAR
VERSION:2.0
PRODID:-//BInvest - ECPv6.15.20//NONSGML v1.0//EN
CALSCALE:GREGORIAN
METHOD:PUBLISH
X-ORIGINAL-URL:https://binvest-ev.org
X-WR-CALDESC:Veranstaltungen für BInvest
REFRESH-INTERVAL;VALUE=DURATION:PT1H
X-Robots-Tag:noindex
X-PUBLISHED-TTL:PT1H
BEGIN:VTIMEZONE
TZID:Europe/Berlin
BEGIN:DAYLIGHT
TZOFFSETFROM:+0100
TZOFFSETTO:+0200
TZNAME:CEST
DTSTART:20220327T010000
END:DAYLIGHT
BEGIN:STANDARD
TZOFFSETFROM:+0200
TZOFFSETTO:+0100
TZNAME:CET
DTSTART:20221030T010000
END:STANDARD
BEGIN:DAYLIGHT
TZOFFSETFROM:+0100
TZOFFSETTO:+0200
TZNAME:CEST
DTSTART:20230326T010000
END:DAYLIGHT
BEGIN:STANDARD
TZOFFSETFROM:+0200
TZOFFSETTO:+0100
TZNAME:CET
DTSTART:20231029T010000
END:STANDARD
BEGIN:DAYLIGHT
TZOFFSETFROM:+0100
TZOFFSETTO:+0200
TZNAME:CEST
DTSTART:20240331T010000
END:DAYLIGHT
BEGIN:STANDARD
TZOFFSETFROM:+0200
TZOFFSETTO:+0100
TZNAME:CET
DTSTART:20241027T010000
END:STANDARD
END:VTIMEZONE
BEGIN:VEVENT
DTSTART;TZID=Europe/Berlin:20231201T140000
DTEND;TZID=Europe/Berlin:20231201T190000
DTSTAMP:20260422T215228
CREATED:20230929T160718Z
LAST-MODIFIED:20230929T160859Z
UID:1656-1701439200-1701457200@binvest-ev.org
SUMMARY:KPMG Workshop
DESCRIPTION:💼 KPMG Workshop für Deal Advisory und Transaktionsberatung 📊 \n\n\n\nEntdecke Deine beruflichen Chancen bei KPMG! 🚀 Am 01.12. laden wir zu unserer Veranstaltung „Dein Karrierestart im Deal Advisory“ in Bielefeld ein und können es kaum erwarten\, Dich dort zu treffen. Hier hast Du die Gelegenheit\, mit dem KPMG-Team zu sprechen\, wertvolle Insights zum Arbeitsbereich der Transaktionsberatung zu gewinnen und Dein Netzwerk auszubauen. Egal\, ob Du noch studierst oder bereits Berufserfahrung gesammelt hast – bei uns findest Du vielfältige Karrieremöglichkeiten. Komm vorbei und erlebe unseren Teamspirit! \n\n\n\nBewerbungen können ausschließlich bis zum 13. November entgegen genommen werden! Falls du Fragen zur Ausarbeitung eines CVs hast oder dich fragst wie du an deine Notenübersicht kommst\, kannst du uns jederzeit über die info@binvest-ev.org erreichen. \n\n\n\n\n\nKPMG Event – Deal AdvisoryHerunterladen
URL:https://binvest-ev.org/event/kpmg-workshop/
LOCATION:KPMG Niederlassung Bielefeld\, Am Lenkwerk 1\, Bielefeld\, 33609\, Deutschland
END:VEVENT
BEGIN:VEVENT
DTSTART;TZID=Europe/Berlin:20231205T180000
DTEND;TZID=Europe/Berlin:20231205T190000
DTSTAMP:20260422T215228
CREATED:20230814T154437Z
LAST-MODIFIED:20230814T154438Z
UID:1553-1701799200-1701802800@binvest-ev.org
SUMMARY:BInvest Portfolio-Gruppe
DESCRIPTION:Als stolzes Mitglied des Bundesverbands der Börsenvereine an deutschen Hochschulen (BVH) e.V. stellen wir uns der Portfolio-Challenge des Dachverbands. 💪📊 \n\n\n\nIn unserer Portfolio-Gruppe diskutieren wir leidenschaftlich über interessante Handelsideen und tauschen uns über die aktuellen Entwicklungen in der Marktwirtschaft und auf dem Kapitalmarkt aus. Hier spüren wir den Puls der Finanzwelt und nutzen unsere Treffen\, um wertvolle Erkenntnisse zu gewinnen\, die uns auf unserem Weg zum Erfolg begleiten. 💬📈 \n\n\n\nDabei geht es bei uns nicht nur um theoretisches Grundlagen – wir legen großen Wert auf den Ausbau der Softkills unserer Mitglieder bei Präsentationen. In den Präsentationen werden börsennotierte Unternehmen analysiert und Volkswirtschaften oder ganze Branchen und Sektoren bewertet. Sie dienen insbesondere als Vorbereitung für einen erfolgreiche Teilnahme an der jährlichen Stock Pitch Competition\, wo Mitglieder ihr Können unter Beweis stellen und von einer fachkundigen Jury beurteilt werden. 📈🌐 \n\n\n\nIn unserem Verein legen wir großen Wert auf Exzellenz\, das Entdecken von Chancen und das Schmieden von Verbindungen\, die über die Welt der Finanzen hinausgehen. 💡🤝 \n\n\n\nWir sind stolz darauf\, Teil dieses inspirierenden Netzwerks zu sein.💼🏆Gemeinsam werden wir Großes erreichen! 🚀🌟
URL:https://binvest-ev.org/event/binvest-portfolio-gruppe-13/
LOCATION:Universität Bielefeld\, Universitätsstraße 25\, Bielefeld\, 33615
ORGANIZER;CN="BInvest e.V.":MAILTO:info@binvest-ev.org
END:VEVENT
BEGIN:VEVENT
DTSTART;TZID=Europe/Berlin:20231206T180000
DTEND;TZID=Europe/Berlin:20231206T190000
DTSTAMP:20260422T215228
CREATED:20230814T163436Z
LAST-MODIFIED:20231019T182143Z
UID:1572-1701885600-1701889200@binvest-ev.org
SUMMARY:BVH Börsenführerschein - Zertifikat
DESCRIPTION:U2-223 \n\n\n\n\n\n🏆📚 Hole dir dein Börsenführerschein-Zertifikat! 💼📊 \n\n\n\nDie vier aufeinander aufbauenden Vorträge bilden die solide Wissensbasis für dieses Zertifikat. Wenn ihr an den Vorträgen „Börse\, Kapitalmarkt und Handel“\, „Aktien\, Renten und Fonds“\, „Optionen und Zertifikate“ sowie „Anlagephilosophien und Börsenpsychologie“ teilnehmt und das gewonnene Wissen verinnerlicht habt\, seid ihr bestens gerüstet! \n\n\n\nUm das Zertifikat zu erhalten\, müsst ihr einen umfassenden Test mit 40 Fragen erfolgreich bestehen. Dieser Test wird euer Verständnis für die Materie prüfen und eure neu gewonnenen Finanzkenntnisse auf die Probe stellen. \n\n\n\nDie Teilnahme an diesem Zertifikatsprogramm ist nicht nur eine großartige Möglichkeit\, eure Finanzkompetenz zu zeigen\, sondern auch eine Bereicherung für eure persönliche und berufliche Entwicklung. \n\n\n\nMacht euch bereit\, eure Expertise im Finanzbereich zu zertifizieren und zeigt der Welt\, dass ihr echte Finanzchampions seid! \n\n\n\nInformationen zum Raum der Veranstaltung folgen.
URL:https://binvest-ev.org/event/bvh-boersenfuehrerschein-zertifikat/
LOCATION:Universität Bielefeld\, Universitätsstraße 25\, Bielefeld\, 33615
ORGANIZER;CN="BInvest e.V.":MAILTO:info@binvest-ev.org
END:VEVENT
BEGIN:VEVENT
DTSTART;TZID=Europe/Berlin:20231206T190000
DTEND;TZID=Europe/Berlin:20231206T233000
DTSTAMP:20260422T215228
CREATED:20231113T193309Z
LAST-MODIFIED:20231123T115240Z
UID:1680-1701889200-1701905400@binvest-ev.org
SUMMARY:Weihnachtsfeier
DESCRIPTION:🌟 Save the Date: Bielefelder Investmentverein e.V. Weihnachtsfeier! 🌟 \n\n\n\n06.12.2023 \n\n\n\nVeranstaltungsort: U2-222 \n\n\n\nLiebe Mitglieder und Freunde des Bielefelder Investmentvereins e.V.\, \n\n\n\ndie festliche Jahreszeit steht vor der Tür\, und wir freuen uns\, euch herzlich zur diesjährigen Weihnachtsfeier einzuladen! 🎄🌟 \n\n\n\nNach einer intensiven Prüfung des Börsenführerscheins wollen wir gemeinsam das Jahr in besinnlicher Atmosphäre ausklingen lassen. Freut euch auf eine reichhaltige Auswahl an Schleckereien und Getränken\, darunter köstlicher Glühwein und erfrischender Kinderpunsch. 🍷🍭 \n\n\n\nFür die perfekte Stimmung sorgen wir mit stimmungsvoller Musik und einer weihnachtlichen Dekoration. Genießt die Gelegenheit\, euch mit Gleichgesinnten auszutauschen und das Jahr in gemütlichem Ambiente Revue passieren zu lassen. 🤝 \n\n\n\nWir freuen uns darauf\, mit euch gemeinsam eine unvergessliche Weihnachtsfeier zu erleben!💹📰
URL:https://binvest-ev.org/event/weihnachtsfeier/
LOCATION:Universität Bielefeld\, Universitätsstraße 25\, Bielefeld\, 33615
END:VEVENT
BEGIN:VEVENT
DTSTART;TZID=Europe/Berlin:20231212T180000
DTEND;TZID=Europe/Berlin:20231212T190000
DTSTAMP:20260422T215228
CREATED:20230814T154506Z
LAST-MODIFIED:20230814T154508Z
UID:1555-1702404000-1702407600@binvest-ev.org
SUMMARY:BInvest Portfolio-Gruppe
DESCRIPTION:Als stolzes Mitglied des Bundesverbands der Börsenvereine an deutschen Hochschulen (BVH) e.V. stellen wir uns der Portfolio-Challenge des Dachverbands. 💪📊 \n\n\n\nIn unserer Portfolio-Gruppe diskutieren wir leidenschaftlich über interessante Handelsideen und tauschen uns über die aktuellen Entwicklungen in der Marktwirtschaft und auf dem Kapitalmarkt aus. Hier spüren wir den Puls der Finanzwelt und nutzen unsere Treffen\, um wertvolle Erkenntnisse zu gewinnen\, die uns auf unserem Weg zum Erfolg begleiten. 💬📈 \n\n\n\nDabei geht es bei uns nicht nur um theoretisches Grundlagen – wir legen großen Wert auf den Ausbau der Softkills unserer Mitglieder bei Präsentationen. In den Präsentationen werden börsennotierte Unternehmen analysiert und Volkswirtschaften oder ganze Branchen und Sektoren bewertet. Sie dienen insbesondere als Vorbereitung für einen erfolgreiche Teilnahme an der jährlichen Stock Pitch Competition\, wo Mitglieder ihr Können unter Beweis stellen und von einer fachkundigen Jury beurteilt werden. 📈🌐 \n\n\n\nIn unserem Verein legen wir großen Wert auf Exzellenz\, das Entdecken von Chancen und das Schmieden von Verbindungen\, die über die Welt der Finanzen hinausgehen. 💡🤝 \n\n\n\nWir sind stolz darauf\, Teil dieses inspirierenden Netzwerks zu sein.💼🏆Gemeinsam werden wir Großes erreichen! 🚀🌟
URL:https://binvest-ev.org/event/binvest-portfolio-gruppe-14/
LOCATION:Universität Bielefeld\, Universitätsstraße 25\, Bielefeld\, 33615
ORGANIZER;CN="BInvest e.V.":MAILTO:info@binvest-ev.org
END:VEVENT
BEGIN:VEVENT
DTSTART;TZID=Europe/Berlin:20231212T190000
DTEND;TZID=Europe/Berlin:20231212T210000
DTSTAMP:20260422T215228
CREATED:20230814T093227Z
LAST-MODIFIED:20230929T151441Z
UID:1511-1702407600-1702414800@binvest-ev.org
SUMMARY:BInvest & Friends im Dezember
DESCRIPTION:📢 Verpasst nicht unseren spannenden Investment-Stammtisch! 📢 \n\n\n\nLiebe Mitglieder\, \n\n\n\nIhr seid herzlich eingeladen\, unseren kommenden Investment-Stammtisch zu besuchen und Eure finanziellen Ziele auf ein neues Level zu heben! Taucht ein in ein engagiertes Netzwerk von gleichgesinnten Studierenden\, tauscht Wissen aus und entdeckt gemeinsam neue Anlagemöglichkeiten. \n\n\n\n✅ Erweitert Euer Wissen: Gemeinsam erkunden wir verschiedene Investmentstrategien\, diskutieren aktuelle Finanzthemen und teilen praktische Erfahrungen. \n\n\n\n✅ Knüpft wertvolle Kontakte: Nutzt die Gelegenheit\, Euch mit anderen Studierenden der Universität Bielefeld zu vernetzen\, Ideen auszutauschen und langfristige Beziehungen aufzubauen. \n\n\n\n✅ Stärkt Eure finanzielle Zukunft: Lernt\, wie Ihr Euer Geld sinnvoll investieren könnt\, um finanzielle Unabhängigkeit zu erreichen und langfristigen Wohlstand aufzubauen. \n\n\n\nMacht den ersten Schritt zu Eurem finanziellen Erfolg und sichert Euch Eure Plätze! Markiert den kommenden Dienstag in Eurem Kalender und nehmt am Investment-Stammtisch teil. \n\n\n\nWir freuen uns auf einen inspirierenden und erkenntnisreichen Abend mit Euch! \n\n\n\n#Investment #Networking #Finanzen #UniBielefeld #Stammtisch
URL:https://binvest-ev.org/event/binvest-friends-im-dezember/
LOCATION:Weihnachstsmarkt\, Bielefeld\, 33602\, Deutschland
END:VEVENT
BEGIN:VEVENT
DTSTART;TZID=Europe/Berlin:20231219T180000
DTEND;TZID=Europe/Berlin:20231219T190000
DTSTAMP:20260422T215228
CREATED:20230814T154547Z
LAST-MODIFIED:20230814T154549Z
UID:1557-1703008800-1703012400@binvest-ev.org
SUMMARY:BInvest Portfolio-Gruppe
DESCRIPTION:Als stolzes Mitglied des Bundesverbands der Börsenvereine an deutschen Hochschulen (BVH) e.V. stellen wir uns der Portfolio-Challenge des Dachverbands. 💪📊 \n\n\n\nIn unserer Portfolio-Gruppe diskutieren wir leidenschaftlich über interessante Handelsideen und tauschen uns über die aktuellen Entwicklungen in der Marktwirtschaft und auf dem Kapitalmarkt aus. Hier spüren wir den Puls der Finanzwelt und nutzen unsere Treffen\, um wertvolle Erkenntnisse zu gewinnen\, die uns auf unserem Weg zum Erfolg begleiten. 💬📈 \n\n\n\nDabei geht es bei uns nicht nur um theoretisches Grundlagen – wir legen großen Wert auf den Ausbau der Softkills unserer Mitglieder bei Präsentationen. In den Präsentationen werden börsennotierte Unternehmen analysiert und Volkswirtschaften oder ganze Branchen und Sektoren bewertet. Sie dienen insbesondere als Vorbereitung für einen erfolgreiche Teilnahme an der jährlichen Stock Pitch Competition\, wo Mitglieder ihr Können unter Beweis stellen und von einer fachkundigen Jury beurteilt werden. 📈🌐 \n\n\n\nIn unserem Verein legen wir großen Wert auf Exzellenz\, das Entdecken von Chancen und das Schmieden von Verbindungen\, die über die Welt der Finanzen hinausgehen. 💡🤝 \n\n\n\nWir sind stolz darauf\, Teil dieses inspirierenden Netzwerks zu sein.💼🏆Gemeinsam werden wir Großes erreichen! 🚀🌟
URL:https://binvest-ev.org/event/binvest-portfolio-gruppe-15/
LOCATION:Universität Bielefeld\, Universitätsstraße 25\, Bielefeld\, 33615
ORGANIZER;CN="BInvest e.V.":MAILTO:info@binvest-ev.org
END:VEVENT
END:VCALENDAR