BEGIN:VCALENDAR
VERSION:2.0
PRODID:-//BInvest - ECPv6.15.20//NONSGML v1.0//EN
CALSCALE:GREGORIAN
METHOD:PUBLISH
X-WR-CALNAME:BInvest
X-ORIGINAL-URL:https://binvest-ev.org
X-WR-CALDESC:Veranstaltungen für BInvest
REFRESH-INTERVAL;VALUE=DURATION:PT1H
X-Robots-Tag:noindex
X-PUBLISHED-TTL:PT1H
BEGIN:VTIMEZONE
TZID:Europe/Berlin
BEGIN:DAYLIGHT
TZOFFSETFROM:+0100
TZOFFSETTO:+0200
TZNAME:CEST
DTSTART:20230326T010000
END:DAYLIGHT
BEGIN:STANDARD
TZOFFSETFROM:+0200
TZOFFSETTO:+0100
TZNAME:CET
DTSTART:20231029T010000
END:STANDARD
BEGIN:DAYLIGHT
TZOFFSETFROM:+0100
TZOFFSETTO:+0200
TZNAME:CEST
DTSTART:20240331T010000
END:DAYLIGHT
BEGIN:STANDARD
TZOFFSETFROM:+0200
TZOFFSETTO:+0100
TZNAME:CET
DTSTART:20241027T010000
END:STANDARD
BEGIN:DAYLIGHT
TZOFFSETFROM:+0100
TZOFFSETTO:+0200
TZNAME:CEST
DTSTART:20250330T010000
END:DAYLIGHT
BEGIN:STANDARD
TZOFFSETFROM:+0200
TZOFFSETTO:+0100
TZNAME:CET
DTSTART:20251026T010000
END:STANDARD
END:VTIMEZONE
BEGIN:VEVENT
DTSTART;TZID=Europe/Berlin:20240206T180000
DTEND;TZID=Europe/Berlin:20240206T190000
DTSTAMP:20260422T192145
CREATED:20240110T192620Z
LAST-MODIFIED:20240110T192621Z
UID:7811-1707242400-1707246000@binvest-ev.org
SUMMARY:BInvest Portfolio-Grupe
DESCRIPTION:Als stolzes Mitglied des Bundesverbands der Börsenvereine an deutschen Hochschulen (BVH) e.V. stellen wir uns der Portfolio-Challenge des Dachverbands. 💪📊 \n\n\n\nIn unserer Portfolio-Gruppe diskutieren wir leidenschaftlich über interessante Handelsideen und tauschen uns über die aktuellen Entwicklungen in der Marktwirtschaft und auf dem Kapitalmarkt aus. Hier spüren wir den Puls der Finanzwelt und nutzen unsere Treffen\, um wertvolle Erkenntnisse zu gewinnen\, die uns auf unserem Weg zum Erfolg begleiten. 💬📈 \n\n\n\nDabei geht es bei uns nicht nur um theoretisches Grundlagen – wir legen großen Wert auf den Ausbau der Softkills unserer Mitglieder bei Präsentationen. In den Präsentationen werden börsennotierte Unternehmen analysiert und Volkswirtschaften oder ganze Branchen und Sektoren bewertet. Sie dienen insbesondere als Vorbereitung für einen erfolgreiche Teilnahme an der jährlichen Stock Pitch Competition\, wo Mitglieder ihr Können unter Beweis stellen und von einer fachkundigen Jury beurteilt werden. 📈🌐 \n\n\n\nIn unserem Verein legen wir großen Wert auf Exzellenz\, das Entdecken von Chancen und das Schmieden von Verbindungen\, die über die Welt der Finanzen hinausgehen. 💡🤝 \n\n\n\nWir sind stolz darauf\, Teil dieses inspirierenden Netzwerks zu sein.💼🏆Gemeinsam werden wir Großes erreichen! 🚀🌟
URL:https://binvest-ev.org/event/binvest-portfolio-grupe/
LOCATION:Universität Bielefeld\, Universitätsstraße 25\, Bielefeld\, 33615
ORGANIZER;CN="BInvest e.V.":MAILTO:info@binvest-ev.org
END:VEVENT
BEGIN:VEVENT
DTSTART;TZID=Europe/Berlin:20240213T160000
DTEND;TZID=Europe/Berlin:20240213T180000
DTSTAMP:20260422T192145
CREATED:20240110T192646Z
LAST-MODIFIED:20240124T200302Z
UID:7812-1707840000-1707847200@binvest-ev.org
SUMMARY:BInvest Portfolio-Gruppe
DESCRIPTION:Als stolzes Mitglied des Bundesverbands der Börsenvereine an deutschen Hochschulen (BVH) e.V. stellen wir uns der Portfolio-Challenge des Dachverbands. 💪📊 \n\n\n\nIn unserer Portfolio-Gruppe diskutieren wir leidenschaftlich über interessante Handelsideen und tauschen uns über die aktuellen Entwicklungen in der Marktwirtschaft und auf dem Kapitalmarkt aus. Hier spüren wir den Puls der Finanzwelt und nutzen unsere Treffen\, um wertvolle Erkenntnisse zu gewinnen\, die uns auf unserem Weg zum Erfolg begleiten. 💬📈 \n\n\n\nDabei geht es bei uns nicht nur um theoretisches Grundlagen – wir legen großen Wert auf den Ausbau der Softkills unserer Mitglieder bei Präsentationen. In den Präsentationen werden börsennotierte Unternehmen analysiert und Volkswirtschaften oder ganze Branchen und Sektoren bewertet. Sie dienen insbesondere als Vorbereitung für einen erfolgreiche Teilnahme an der jährlichen Stock Pitch Competition\, wo Mitglieder ihr Können unter Beweis stellen und von einer fachkundigen Jury beurteilt werden. 📈🌐 \n\n\n\nIn unserem Verein legen wir großen Wert auf Exzellenz\, das Entdecken von Chancen und das Schmieden von Verbindungen\, die über die Welt der Finanzen hinausgehen. 💡🤝 \n\n\n\nWir sind stolz darauf\, Teil dieses inspirierenden Netzwerks zu sein.💼🏆Gemeinsam werden wir Großes erreichen! 🚀🌟
URL:https://binvest-ev.org/event/binvest-portfolio-gruppe-20/
LOCATION:Universität Bielefeld\, Universitätsstraße 25\, Bielefeld\, 33615
ORGANIZER;CN="BInvest e.V.":MAILTO:info@binvest-ev.org
END:VEVENT
BEGIN:VEVENT
DTSTART;TZID=Europe/Berlin:20240215T190000
DTEND;TZID=Europe/Berlin:20240215T210000
DTSTAMP:20260422T192145
CREATED:20240124T200212Z
LAST-MODIFIED:20240212T141827Z
UID:7820-1708023600-1708030800@binvest-ev.org
SUMMARY:BInvest & Friends im Februar
DESCRIPTION:📢 Verpasst nicht unseren spannenden Investment-Stammtisch! 📢 \n\n\n\nLiebe Mitglieder\, \n\n\n\nIhr seid herzlich eingeladen\, unseren kommenden Investment-Stammtisch zu besuchen und Eure finanziellen Ziele auf ein neues Level zu heben! Taucht ein in ein engagiertes Netzwerk von gleichgesinnten Studierenden\, tauscht Wissen aus und entdeckt gemeinsam neue Anlagemöglichkeiten. \n\n\n\n✅ Erweitert Euer Wissen: Gemeinsam erkunden wir verschiedene Investmentstrategien\, diskutieren aktuelle Finanzthemen und teilen praktische Erfahrungen. \n\n\n\n✅ Knüpft wertvolle Kontakte: Nutzt die Gelegenheit\, Euch mit anderen Studierenden der Universität Bielefeld zu vernetzen\, Ideen auszutauschen und langfristige Beziehungen aufzubauen. \n\n\n\n✅ Stärkt Eure finanzielle Zukunft: Lernt\, wie Ihr Euer Geld sinnvoll investieren könnt\, um finanzielle Unabhängigkeit zu erreichen und langfristigen Wohlstand aufzubauen. \n\n\n\nMacht den ersten Schritt zu Eurem finanziellen Erfolg und sichert Euch Eure Plätze! Markiert den kommenden Dienstag in Eurem Kalender und nehmt am Investment-Stammtisch teil. \n\n\n\nWir freuen uns auf einen inspirierenden und erkenntnisreichen Abend mit Euch! \n\n\n\n#Investment #Networking #Finanzen #UniBielefeld #Stammtisch
URL:https://binvest-ev.org/event/binvest-friends-im-februar/
LOCATION:Wok’n Roll\, Boulevard 4\, Bielefeld\, 33613\, Deutschland
END:VEVENT
BEGIN:VEVENT
DTSTART;TZID=Europe/Berlin:20240220T180000
DTEND;TZID=Europe/Berlin:20240220T190000
DTSTAMP:20260422T192145
CREATED:20240110T192709Z
LAST-MODIFIED:20240110T192758Z
UID:7813-1708452000-1708455600@binvest-ev.org
SUMMARY:BInvest Portfolio-Gruppe
DESCRIPTION:Als stolzes Mitglied des Bundesverbands der Börsenvereine an deutschen Hochschulen (BVH) e.V. stellen wir uns der Portfolio-Challenge des Dachverbands. 💪📊 \n\n\n\nIn unserer Portfolio-Gruppe diskutieren wir leidenschaftlich über interessante Handelsideen und tauschen uns über die aktuellen Entwicklungen in der Marktwirtschaft und auf dem Kapitalmarkt aus. Hier spüren wir den Puls der Finanzwelt und nutzen unsere Treffen\, um wertvolle Erkenntnisse zu gewinnen\, die uns auf unserem Weg zum Erfolg begleiten. 💬📈 \n\n\n\nDabei geht es bei uns nicht nur um theoretisches Grundlagen – wir legen großen Wert auf den Ausbau der Softkills unserer Mitglieder bei Präsentationen. In den Präsentationen werden börsennotierte Unternehmen analysiert und Volkswirtschaften oder ganze Branchen und Sektoren bewertet. Sie dienen insbesondere als Vorbereitung für einen erfolgreiche Teilnahme an der jährlichen Stock Pitch Competition\, wo Mitglieder ihr Können unter Beweis stellen und von einer fachkundigen Jury beurteilt werden. 📈🌐 \n\n\n\nIn unserem Verein legen wir großen Wert auf Exzellenz\, das Entdecken von Chancen und das Schmieden von Verbindungen\, die über die Welt der Finanzen hinausgehen. 💡🤝 \n\n\n\nWir sind stolz darauf\, Teil dieses inspirierenden Netzwerks zu sein.💼🏆Gemeinsam werden wir Großes erreichen! 🚀🌟
URL:https://binvest-ev.org/event/binvest-portfolio-gruppe-21/
LOCATION:Universität Bielefeld\, Universitätsstraße 25\, Bielefeld\, 33615
ORGANIZER;CN="BInvest e.V.":MAILTO:info@binvest-ev.org
END:VEVENT
BEGIN:VEVENT
DTSTART;TZID=Europe/Berlin:20240227T180000
DTEND;TZID=Europe/Berlin:20240227T190000
DTSTAMP:20260422T192145
CREATED:20240110T192732Z
LAST-MODIFIED:20240110T192733Z
UID:7814-1709056800-1709060400@binvest-ev.org
SUMMARY:BInvest Portfolio-Gruppe
DESCRIPTION:Als stolzes Mitglied des Bundesverbands der Börsenvereine an deutschen Hochschulen (BVH) e.V. stellen wir uns der Portfolio-Challenge des Dachverbands. 💪📊 \n\n\n\nIn unserer Portfolio-Gruppe diskutieren wir leidenschaftlich über interessante Handelsideen und tauschen uns über die aktuellen Entwicklungen in der Marktwirtschaft und auf dem Kapitalmarkt aus. Hier spüren wir den Puls der Finanzwelt und nutzen unsere Treffen\, um wertvolle Erkenntnisse zu gewinnen\, die uns auf unserem Weg zum Erfolg begleiten. 💬📈 \n\n\n\nDabei geht es bei uns nicht nur um theoretisches Grundlagen – wir legen großen Wert auf den Ausbau der Softkills unserer Mitglieder bei Präsentationen. In den Präsentationen werden börsennotierte Unternehmen analysiert und Volkswirtschaften oder ganze Branchen und Sektoren bewertet. Sie dienen insbesondere als Vorbereitung für einen erfolgreiche Teilnahme an der jährlichen Stock Pitch Competition\, wo Mitglieder ihr Können unter Beweis stellen und von einer fachkundigen Jury beurteilt werden. 📈🌐 \n\n\n\nIn unserem Verein legen wir großen Wert auf Exzellenz\, das Entdecken von Chancen und das Schmieden von Verbindungen\, die über die Welt der Finanzen hinausgehen. 💡🤝 \n\n\n\nWir sind stolz darauf\, Teil dieses inspirierenden Netzwerks zu sein.💼🏆Gemeinsam werden wir Großes erreichen! 🚀🌟
URL:https://binvest-ev.org/event/binvest-portfolio-gruppe-22/
LOCATION:Universität Bielefeld\, Universitätsstraße 25\, Bielefeld\, 33615
ORGANIZER;CN="BInvest e.V.":MAILTO:info@binvest-ev.org
END:VEVENT
END:VCALENDAR