BEGIN:VCALENDAR
VERSION:2.0
PRODID:-//BInvest - ECPv6.15.20//NONSGML v1.0//EN
CALSCALE:GREGORIAN
METHOD:PUBLISH
X-ORIGINAL-URL:https://binvest-ev.org
X-WR-CALDESC:Veranstaltungen für BInvest
REFRESH-INTERVAL;VALUE=DURATION:PT1H
X-Robots-Tag:noindex
X-PUBLISHED-TTL:PT1H
BEGIN:VTIMEZONE
TZID:Europe/Berlin
BEGIN:DAYLIGHT
TZOFFSETFROM:+0100
TZOFFSETTO:+0200
TZNAME:CEST
DTSTART:20230326T010000
END:DAYLIGHT
BEGIN:STANDARD
TZOFFSETFROM:+0200
TZOFFSETTO:+0100
TZNAME:CET
DTSTART:20231029T010000
END:STANDARD
BEGIN:DAYLIGHT
TZOFFSETFROM:+0100
TZOFFSETTO:+0200
TZNAME:CEST
DTSTART:20240331T010000
END:DAYLIGHT
BEGIN:STANDARD
TZOFFSETFROM:+0200
TZOFFSETTO:+0100
TZNAME:CET
DTSTART:20241027T010000
END:STANDARD
BEGIN:DAYLIGHT
TZOFFSETFROM:+0100
TZOFFSETTO:+0200
TZNAME:CEST
DTSTART:20250330T010000
END:DAYLIGHT
BEGIN:STANDARD
TZOFFSETFROM:+0200
TZOFFSETTO:+0100
TZNAME:CET
DTSTART:20251026T010000
END:STANDARD
END:VTIMEZONE
BEGIN:VEVENT
DTSTART;TZID=Europe/Berlin:20240301T180000
DTEND;TZID=Europe/Berlin:20240301T200000
DTSTAMP:20260422T175346
CREATED:20240131T193033Z
LAST-MODIFIED:20240131T194120Z
UID:7852-1709316000-1709323200@binvest-ev.org
SUMMARY:Mitgliederversammlung 2024
DESCRIPTION:Unsere nächste Mitgliederversammlung findet am 1. März 2024 um 18 Uhr in der Universität Bielefeld statt. \n\n\n\nAlle Mitglieder erhalten eine Mail mit der offiziellen Einladung und der vorläufigen Tagesordnung sowie die aktuelle Satzung und Geschäftsordnung des Vereins. \n\n\n\nEtwaige Anträge zu dieser Mitgliederversammlung bitte wir euch bis zum 22. Februar 2024 per E-Mail bei uns (info@binvest-ev.org) einzureichen.
URL:https://binvest-ev.org/event/mitgliederversammlung-2024/
END:VEVENT
BEGIN:VEVENT
DTSTART;TZID=Europe/Berlin:20240305T180000
DTEND;TZID=Europe/Berlin:20240305T190000
DTSTAMP:20260422T175346
CREATED:20240131T174816Z
LAST-MODIFIED:20240131T174817Z
UID:7837-1709661600-1709665200@binvest-ev.org
SUMMARY:BInvest Portfolio-Gruppe
DESCRIPTION:Als stolzes Mitglied des Bundesverbands der Börsenvereine an deutschen Hochschulen (BVH) e.V. stellen wir uns der Portfolio-Challenge des Dachverbands. 💪📊 \n\n\n\nIn unserer Portfolio-Gruppe diskutieren wir leidenschaftlich über interessante Handelsideen und tauschen uns über die aktuellen Entwicklungen in der Marktwirtschaft und auf dem Kapitalmarkt aus. Hier spüren wir den Puls der Finanzwelt und nutzen unsere Treffen\, um wertvolle Erkenntnisse zu gewinnen\, die uns auf unserem Weg zum Erfolg begleiten. 💬📈 \n\n\n\nDabei geht es bei uns nicht nur um theoretisches Grundlagen – wir legen großen Wert auf den Ausbau der Softkills unserer Mitglieder bei Präsentationen. In den Präsentationen werden börsennotierte Unternehmen analysiert und Volkswirtschaften oder ganze Branchen und Sektoren bewertet. Sie dienen insbesondere als Vorbereitung für einen erfolgreiche Teilnahme an der jährlichen Stock Pitch Competition\, wo Mitglieder ihr Können unter Beweis stellen und von einer fachkundigen Jury beurteilt werden. 📈🌐 \n\n\n\nIn unserem Verein legen wir großen Wert auf Exzellenz\, das Entdecken von Chancen und das Schmieden von Verbindungen\, die über die Welt der Finanzen hinausgehen. 💡🤝 \n\n\n\nWir sind stolz darauf\, Teil dieses inspirierenden Netzwerks zu sein.💼🏆Gemeinsam werden wir Großes erreichen! 🚀🌟
URL:https://binvest-ev.org/event/binvest-portfolio-gruppe-23/
LOCATION:Universität Bielefeld\, Universitätsstraße 25\, Bielefeld\, 33615
ORGANIZER;CN="BInvest e.V.":MAILTO:info@binvest-ev.org
END:VEVENT
BEGIN:VEVENT
DTSTART;TZID=Europe/Berlin:20240312T160000
DTEND;TZID=Europe/Berlin:20240312T180000
DTSTAMP:20260422T175346
CREATED:20240131T174854Z
LAST-MODIFIED:20240131T174855Z
UID:7842-1710259200-1710266400@binvest-ev.org
SUMMARY:BInvest Portfolio-Gruppe
DESCRIPTION:Als stolzes Mitglied des Bundesverbands der Börsenvereine an deutschen Hochschulen (BVH) e.V. stellen wir uns der Portfolio-Challenge des Dachverbands. 💪📊 \n\n\n\nIn unserer Portfolio-Gruppe diskutieren wir leidenschaftlich über interessante Handelsideen und tauschen uns über die aktuellen Entwicklungen in der Marktwirtschaft und auf dem Kapitalmarkt aus. Hier spüren wir den Puls der Finanzwelt und nutzen unsere Treffen\, um wertvolle Erkenntnisse zu gewinnen\, die uns auf unserem Weg zum Erfolg begleiten. 💬📈 \n\n\n\nDabei geht es bei uns nicht nur um theoretisches Grundlagen – wir legen großen Wert auf den Ausbau der Softkills unserer Mitglieder bei Präsentationen. In den Präsentationen werden börsennotierte Unternehmen analysiert und Volkswirtschaften oder ganze Branchen und Sektoren bewertet. Sie dienen insbesondere als Vorbereitung für einen erfolgreiche Teilnahme an der jährlichen Stock Pitch Competition\, wo Mitglieder ihr Können unter Beweis stellen und von einer fachkundigen Jury beurteilt werden. 📈🌐 \n\n\n\nIn unserem Verein legen wir großen Wert auf Exzellenz\, das Entdecken von Chancen und das Schmieden von Verbindungen\, die über die Welt der Finanzen hinausgehen. 💡🤝 \n\n\n\nWir sind stolz darauf\, Teil dieses inspirierenden Netzwerks zu sein.💼🏆Gemeinsam werden wir Großes erreichen! 🚀🌟
URL:https://binvest-ev.org/event/binvest-portfolio-gruppe-24/
LOCATION:Universität Bielefeld\, Universitätsstraße 25\, Bielefeld\, 33615
ORGANIZER;CN="BInvest e.V.":MAILTO:info@binvest-ev.org
END:VEVENT
BEGIN:VEVENT
DTSTART;TZID=Europe/Berlin:20240319T180000
DTEND;TZID=Europe/Berlin:20240319T190000
DTSTAMP:20260422T175346
CREATED:20240131T174916Z
LAST-MODIFIED:20240131T174917Z
UID:7840-1710871200-1710874800@binvest-ev.org
SUMMARY:BInvest Portfolio-Gruppe
DESCRIPTION:Als stolzes Mitglied des Bundesverbands der Börsenvereine an deutschen Hochschulen (BVH) e.V. stellen wir uns der Portfolio-Challenge des Dachverbands. 💪📊 \n\n\n\nIn unserer Portfolio-Gruppe diskutieren wir leidenschaftlich über interessante Handelsideen und tauschen uns über die aktuellen Entwicklungen in der Marktwirtschaft und auf dem Kapitalmarkt aus. Hier spüren wir den Puls der Finanzwelt und nutzen unsere Treffen\, um wertvolle Erkenntnisse zu gewinnen\, die uns auf unserem Weg zum Erfolg begleiten. 💬📈 \n\n\n\nDabei geht es bei uns nicht nur um theoretisches Grundlagen – wir legen großen Wert auf den Ausbau der Softkills unserer Mitglieder bei Präsentationen. In den Präsentationen werden börsennotierte Unternehmen analysiert und Volkswirtschaften oder ganze Branchen und Sektoren bewertet. Sie dienen insbesondere als Vorbereitung für einen erfolgreiche Teilnahme an der jährlichen Stock Pitch Competition\, wo Mitglieder ihr Können unter Beweis stellen und von einer fachkundigen Jury beurteilt werden. 📈🌐 \n\n\n\nIn unserem Verein legen wir großen Wert auf Exzellenz\, das Entdecken von Chancen und das Schmieden von Verbindungen\, die über die Welt der Finanzen hinausgehen. 💡🤝 \n\n\n\nWir sind stolz darauf\, Teil dieses inspirierenden Netzwerks zu sein.💼🏆Gemeinsam werden wir Großes erreichen! 🚀🌟
URL:https://binvest-ev.org/event/binvest-portfolio-gruppe-25/
LOCATION:Universität Bielefeld\, Universitätsstraße 25\, Bielefeld\, 33615
ORGANIZER;CN="BInvest e.V.":MAILTO:info@binvest-ev.org
END:VEVENT
BEGIN:VEVENT
DTSTART;TZID=Europe/Berlin:20240326T180000
DTEND;TZID=Europe/Berlin:20240326T190000
DTSTAMP:20260422T175346
CREATED:20240131T174938Z
LAST-MODIFIED:20240131T174939Z
UID:7841-1711476000-1711479600@binvest-ev.org
SUMMARY:BInvest Portfolio-Gruppe
DESCRIPTION:Als stolzes Mitglied des Bundesverbands der Börsenvereine an deutschen Hochschulen (BVH) e.V. stellen wir uns der Portfolio-Challenge des Dachverbands. 💪📊 \n\n\n\nIn unserer Portfolio-Gruppe diskutieren wir leidenschaftlich über interessante Handelsideen und tauschen uns über die aktuellen Entwicklungen in der Marktwirtschaft und auf dem Kapitalmarkt aus. Hier spüren wir den Puls der Finanzwelt und nutzen unsere Treffen\, um wertvolle Erkenntnisse zu gewinnen\, die uns auf unserem Weg zum Erfolg begleiten. 💬📈 \n\n\n\nDabei geht es bei uns nicht nur um theoretisches Grundlagen – wir legen großen Wert auf den Ausbau der Softkills unserer Mitglieder bei Präsentationen. In den Präsentationen werden börsennotierte Unternehmen analysiert und Volkswirtschaften oder ganze Branchen und Sektoren bewertet. Sie dienen insbesondere als Vorbereitung für einen erfolgreiche Teilnahme an der jährlichen Stock Pitch Competition\, wo Mitglieder ihr Können unter Beweis stellen und von einer fachkundigen Jury beurteilt werden. 📈🌐 \n\n\n\nIn unserem Verein legen wir großen Wert auf Exzellenz\, das Entdecken von Chancen und das Schmieden von Verbindungen\, die über die Welt der Finanzen hinausgehen. 💡🤝 \n\n\n\nWir sind stolz darauf\, Teil dieses inspirierenden Netzwerks zu sein.💼🏆Gemeinsam werden wir Großes erreichen! 🚀🌟
URL:https://binvest-ev.org/event/binvest-portfolio-gruppe-26/
LOCATION:Universität Bielefeld\, Universitätsstraße 25\, Bielefeld\, 33615
ORGANIZER;CN="BInvest e.V.":MAILTO:info@binvest-ev.org
END:VEVENT
END:VCALENDAR