BEGIN:VCALENDAR
VERSION:2.0
PRODID:-//BInvest - ECPv6.15.20//NONSGML v1.0//EN
CALSCALE:GREGORIAN
METHOD:PUBLISH
X-WR-CALNAME:BInvest
X-ORIGINAL-URL:https://binvest-ev.org
X-WR-CALDESC:Veranstaltungen für BInvest
REFRESH-INTERVAL;VALUE=DURATION:PT1H
X-Robots-Tag:noindex
X-PUBLISHED-TTL:PT1H
BEGIN:VTIMEZONE
TZID:Europe/Berlin
BEGIN:DAYLIGHT
TZOFFSETFROM:+0100
TZOFFSETTO:+0200
TZNAME:CEST
DTSTART:20230326T010000
END:DAYLIGHT
BEGIN:STANDARD
TZOFFSETFROM:+0200
TZOFFSETTO:+0100
TZNAME:CET
DTSTART:20231029T010000
END:STANDARD
BEGIN:DAYLIGHT
TZOFFSETFROM:+0100
TZOFFSETTO:+0200
TZNAME:CEST
DTSTART:20240331T010000
END:DAYLIGHT
BEGIN:STANDARD
TZOFFSETFROM:+0200
TZOFFSETTO:+0100
TZNAME:CET
DTSTART:20241027T010000
END:STANDARD
BEGIN:DAYLIGHT
TZOFFSETFROM:+0100
TZOFFSETTO:+0200
TZNAME:CEST
DTSTART:20250330T010000
END:DAYLIGHT
BEGIN:STANDARD
TZOFFSETFROM:+0200
TZOFFSETTO:+0100
TZNAME:CET
DTSTART:20251026T010000
END:STANDARD
END:VTIMEZONE
BEGIN:VEVENT
DTSTART;TZID=Europe/Berlin:20241008T190000
DTEND;TZID=Europe/Berlin:20241008T210000
DTSTAMP:20260422T065424
CREATED:20240530T214810Z
LAST-MODIFIED:20241003T140216Z
UID:8065-1728414000-1728421200@binvest-ev.org
SUMMARY:BInvest & Friends
DESCRIPTION:📢 Verpasst nicht unseren spannenden Investment-Stammtisch! 📢 \n\n\n\nLiebe Mitglieder\, \n\n\n\nIhr seid herzlich eingeladen\, unseren kommenden Investment-Stammtisch zu besuchen und Eure finanziellen Ziele auf ein neues Level zu heben! Taucht ein in ein engagiertes Netzwerk von gleichgesinnten Studierenden\, tauscht Wissen aus und entdeckt gemeinsam neue Anlagemöglichkeiten. \n\n\n\n✅ Erweitert Euer Wissen: Gemeinsam erkunden wir verschiedene Investmentstrategien\, diskutieren aktuelle Finanzthemen und teilen praktische Erfahrungen. \n\n\n\n✅ Knüpft wertvolle Kontakte: Nutzt die Gelegenheit\, Euch mit anderen Studierenden der Universität Bielefeld zu vernetzen\, Ideen auszutauschen und langfristige Beziehungen aufzubauen. \n\n\n\n✅ Stärkt Eure finanzielle Zukunft: Lernt\, wie Ihr Euer Geld sinnvoll investieren könnt\, um finanzielle Unabhängigkeit zu erreichen und langfristigen Wohlstand aufzubauen. \n\n\n\nMacht den ersten Schritt zu Eurem finanziellen Erfolg und sichert Euch Eure Plätze! Markiert den kommenden Dienstag in Eurem Kalender und nehmt am Investment-Stammtisch teil. \n\n\n\nWir freuen uns auf einen inspirierenden und erkenntnisreichen Abend mit Euch! \n\n\n\nOrt: Pappelkrug\, Wertherstraße 311\, 33619 Bielefeld
URL:https://binvest-ev.org/event/binvest-friends-3/
END:VEVENT
BEGIN:VEVENT
DTSTART;TZID=Europe/Berlin:20241018T140000
DTEND;TZID=Europe/Berlin:20241018T180000
DTSTAMP:20260422T065424
CREATED:20240607T121402Z
LAST-MODIFIED:20240929T074328Z
UID:8100-1729260000-1729274400@binvest-ev.org
SUMMARY:BInvest: Stock Pitch Competition
DESCRIPTION:Was ist eine Stock Pitch Competition? \n\n\n\nNach dem Vorbild amerikanischer Business Schools erhältst Du im Rahmen einer Stock Pitch Competition (SPC) die Chance\, deinen Long- (steigender Kurs↗️) und Short- (sinkender Kurs↘️) Investmentvorschlag vor einer professionellen Jury vorzutragen. Du kannst dies entweder alleine oder gemeinsam mit einem weiteren Teammitglied tun. Du stellst also nicht nur Deine Vortragsfertigkeiten unter Beweis\, sondern auch dein fachliches Know-how! Darüber hinaus winken bereits beim Vorentscheid insgesamt 1.800€ an Preisgeldern. Beim Bundesfinale werden weitere 2.750€ an Preisgeldern ausgeschüttet. Die SPC ist zudem Teil des CFS-Curriculums. \n\n\n\nWie kannst du teilnehmen? \n\n\n\nJedes Team besteht aus ein oder zwei Personen. Bis einschließlich dem 06.10.2024 können sich Teams mit einem One-Pager und CV für die Teilnahme an der SPC bewerben. Die Juroren entscheiden im Vorfeld\, welche fünf Teams ihre Pitches vorstellen dürfen. \n\n\n\nEin OnePager ist ein einseitiges Dokument\, das alle wichtigen Informationen zu einer Handelsidee enthält. Mit einem OnePager soll der Jury schnell und effektiv einen Überblick über die wichtigsten Aspekte deiner Handelsidee gegeben werden. Ein typischer OnePager enthält eine Zusammenfassung des Geschäftsmodells\, Informationen zur Marktgröße und zum Wachstumspotenzial bei einem Long-Pitch. Die Informationen auf dem OnePager sollten klar und prägnant sein und die wichtigsten Punkte hervorheben\, um das Interesse der Jury zu wecken. \n\n\n\nDein OnePager und CV kannst du gerne auf dieser Seite uploaden:⬇️ \n\n\n\nStock Pitch Competition – BInvest (binvest-ev.org)
URL:https://binvest-ev.org/event/binvest-stock-pitch-competition/
END:VEVENT
BEGIN:VEVENT
DTSTART;TZID=Europe/Berlin:20241023T180000
DTEND;TZID=Europe/Berlin:20241023T200000
DTSTAMP:20260422T065424
CREATED:20240929T061905Z
LAST-MODIFIED:20240929T063246Z
UID:8139-1729706400-1729713600@binvest-ev.org
SUMMARY:BVH Börsenführerschein - Teil 1
DESCRIPTION:📊💼 Börse\, Kapitalmarkt und Handel: Eine Reise durch die Geschichte und aktuelle Entwicklungen 🚀📉 \n\n\n\nObwohl bei vielen Unternehmen ein fundiertes Wissen über die Finanzsysteme vorausgesetzt wird und auch im täglichen Leben jedem solche Themen häufig begegnen\, wird die Börse und die Funktionsweise des Kapitalmarkts in der Bildung häufig zu wenig behandelt. Aus diesem Grund hat sich der BVH zum Ziel gesetzt\, seinen Mitgliedern ein fundiertes Wissen zu diesen komplexen Themengebieten zu ermöglichen. Der BVH Börsenführerschein ist dabei mehr als eine Einführung in die Themenwelt der Börse: Für alle Absolventen soll er das Fundament für ein tieferes Verständnis der ebenso interessanten wie komplexen Materie Kapitalmarkt legen. \n\n\n\nIm ersten Vortrag des Börsenführerscheins nehmen wir euch mit auf eine faszinierende Reise durch die geschichtlichen Anfänge der Börse bis hin zu den modernen Organisationsformen\, werfen einen Blick auf historische Crashs und spekulative Übertreibungen\, und analysieren Parallelen zur Finanzkrise sowie die spannende Preisbildung an den Wertpapiermärkten.Der Raum wird noch bekanntgegeben. \n\n\n\nAnmeldungen an: info@binvest-ev.org
URL:https://binvest-ev.org/event/bvh-boersenfuehrerschein-teil-1-praesenz/
END:VEVENT
BEGIN:VEVENT
DTSTART;TZID=Europe/Berlin:20241030T180000
DTEND;TZID=Europe/Berlin:20241030T200000
DTSTAMP:20260422T065424
CREATED:20240929T062204Z
LAST-MODIFIED:20241028T204236Z
UID:8141-1730311200-1730318400@binvest-ev.org
SUMMARY:BVH Börsenführerschein - Teil 2
DESCRIPTION:📈🏦 Aktien\, Renten und Fonds: Ein Blick hinter die Kulissen der Finanzwelt 💼📊 \n\n\n\nObwohl bei vielen Unternehmen ein fundiertes Wissen über die Finanzsysteme vorausgesetzt wird und auch im täglichen Leben jedem solche Themen häufig begegnen\, wird die Börse und die Funktionsweise des Kapitalmarkts in der Bildung häufig zu wenig behandelt. Aus diesem Grund hat sich der BVH zum Ziel gesetzt\, seinen Mitgliedern ein fundiertes Wissen zu diesen komplexen Themengebieten zu ermöglichen. Der BVH Börsenführerschein ist dabei mehr als eine Einführung in die Themenwelt der Börse: Für alle Absolventen soll er das Fundament für ein tieferes Verständnis der ebenso interessanten wie komplexen Materie Kapitalmarkt legen. \n\n\n\nIm zweiten Vortrag des Börsenführerscheins tauchen wir tief in die Welt der Wertpapiere ein\, um die verschiedenen Aktiengattungen und ihre Rechte\, Pflichten und Risiken zu beleuchten\, die Funktionsweise von Anleihen zu verstehen und uns einen Überblick über verschiedenste Fondsarten\, Ratings\, Gebühren und die tatsächlichen Renditen zu verschaffen.Raum: X-E0-236
URL:https://binvest-ev.org/event/bvh-boersenfuehrerschein-teil-2-praesenz/
END:VEVENT
END:VCALENDAR