BEGIN:VCALENDAR
VERSION:2.0
PRODID:-//BInvest - ECPv6.15.20//NONSGML v1.0//EN
CALSCALE:GREGORIAN
METHOD:PUBLISH
X-WR-CALNAME:BInvest
X-ORIGINAL-URL:https://binvest-ev.org
X-WR-CALDESC:Veranstaltungen für BInvest
REFRESH-INTERVAL;VALUE=DURATION:PT1H
X-Robots-Tag:noindex
X-PUBLISHED-TTL:PT1H
BEGIN:VTIMEZONE
TZID:Europe/Berlin
BEGIN:DAYLIGHT
TZOFFSETFROM:+0100
TZOFFSETTO:+0200
TZNAME:CEST
DTSTART:20240331T010000
END:DAYLIGHT
BEGIN:STANDARD
TZOFFSETFROM:+0200
TZOFFSETTO:+0100
TZNAME:CET
DTSTART:20241027T010000
END:STANDARD
BEGIN:DAYLIGHT
TZOFFSETFROM:+0100
TZOFFSETTO:+0200
TZNAME:CEST
DTSTART:20250330T010000
END:DAYLIGHT
BEGIN:STANDARD
TZOFFSETFROM:+0200
TZOFFSETTO:+0100
TZNAME:CET
DTSTART:20251026T010000
END:STANDARD
BEGIN:DAYLIGHT
TZOFFSETFROM:+0100
TZOFFSETTO:+0200
TZNAME:CEST
DTSTART:20260329T010000
END:DAYLIGHT
BEGIN:STANDARD
TZOFFSETFROM:+0200
TZOFFSETTO:+0100
TZNAME:CET
DTSTART:20261025T010000
END:STANDARD
END:VTIMEZONE
BEGIN:VEVENT
DTSTART;TZID=Europe/Berlin:20250106T180000
DTEND;TZID=Europe/Berlin:20250106T210000
DTSTAMP:20260422T020828
CREATED:20241209T215519Z
LAST-MODIFIED:20241209T215532Z
UID:8206-1736186400-1736197200@binvest-ev.org
SUMMARY:BVH Portfolio Challenge
DESCRIPTION:Mach mit bei der wikifolio Portfolio-Challenge \n\n\n\nDie BVH Challenge für junge Börsentalente. wikifolio und der BVH bieten dir die Chance\, dein Investment-Know-how unter Beweis zu stellen und tolle Preise abzuräumen. \n\n\n\nRaum: X-E0-208
URL:https://binvest-ev.org/event/bvh-portfolio-challenge-2/
END:VEVENT
BEGIN:VEVENT
DTSTART;TZID=Europe/Berlin:20250113T180000
DTEND;TZID=Europe/Berlin:20250113T210000
DTSTAMP:20260422T020828
CREATED:20241209T215616Z
LAST-MODIFIED:20241209T215617Z
UID:8208-1736791200-1736802000@binvest-ev.org
SUMMARY:BVH Portfolio Challenge
DESCRIPTION:Mach mit bei der wikifolio Portfolio-Challenge \n\n\n\nDie BVH Challenge für junge Börsentalente. wikifolio und der BVH bieten dir die Chance\, dein Investment-Know-how unter Beweis zu stellen und tolle Preise abzuräumen. \n\n\n\nRaum: X-E0-208
URL:https://binvest-ev.org/event/bvh-portfolio-challenge-3/
END:VEVENT
BEGIN:VEVENT
DTSTART;TZID=Europe/Berlin:20250120T180000
DTEND;TZID=Europe/Berlin:20250120T210000
DTSTAMP:20260422T020828
CREATED:20241209T215712Z
LAST-MODIFIED:20241209T215713Z
UID:8210-1737396000-1737406800@binvest-ev.org
SUMMARY:BVH Portfolio Challenge
DESCRIPTION:Mach mit bei der wikifolio Portfolio-Challenge \n\n\n\nDie BVH Challenge für junge Börsentalente. wikifolio und der BVH bieten dir die Chance\, dein Investment-Know-how unter Beweis zu stellen und tolle Preise abzuräumen. \n\n\n\nRaum: X-E0-208
URL:https://binvest-ev.org/event/bvh-portfolio-challenge-4/
END:VEVENT
BEGIN:VEVENT
DTSTART;TZID=Europe/Berlin:20250127T180000
DTEND;TZID=Europe/Berlin:20250127T210000
DTSTAMP:20260422T020828
CREATED:20241209T215756Z
LAST-MODIFIED:20241209T215757Z
UID:8212-1738000800-1738011600@binvest-ev.org
SUMMARY:BVH Portfolio Challenge
DESCRIPTION:Mach mit bei der wikifolio Portfolio-Challenge \n\n\n\nDie BVH Challenge für junge Börsentalente. wikifolio und der BVH bieten dir die Chance\, dein Investment-Know-how unter Beweis zu stellen und tolle Preise abzuräumen. \n\n\n\nRaum: X-E0-208
URL:https://binvest-ev.org/event/bvh-portfolio-challenge-5/
END:VEVENT
END:VCALENDAR