BEGIN:VCALENDAR
VERSION:2.0
PRODID:-//BInvest - ECPv6.15.20//NONSGML v1.0//EN
CALSCALE:GREGORIAN
METHOD:PUBLISH
X-ORIGINAL-URL:https://binvest-ev.org
X-WR-CALDESC:Veranstaltungen für BInvest
REFRESH-INTERVAL;VALUE=DURATION:PT1H
X-Robots-Tag:noindex
X-PUBLISHED-TTL:PT1H
BEGIN:VTIMEZONE
TZID:Europe/Berlin
BEGIN:DAYLIGHT
TZOFFSETFROM:+0100
TZOFFSETTO:+0200
TZNAME:CEST
DTSTART:20240331T010000
END:DAYLIGHT
BEGIN:STANDARD
TZOFFSETFROM:+0200
TZOFFSETTO:+0100
TZNAME:CET
DTSTART:20241027T010000
END:STANDARD
BEGIN:DAYLIGHT
TZOFFSETFROM:+0100
TZOFFSETTO:+0200
TZNAME:CEST
DTSTART:20250330T010000
END:DAYLIGHT
BEGIN:STANDARD
TZOFFSETFROM:+0200
TZOFFSETTO:+0100
TZNAME:CET
DTSTART:20251026T010000
END:STANDARD
BEGIN:DAYLIGHT
TZOFFSETFROM:+0100
TZOFFSETTO:+0200
TZNAME:CEST
DTSTART:20260329T010000
END:DAYLIGHT
BEGIN:STANDARD
TZOFFSETFROM:+0200
TZOFFSETTO:+0100
TZNAME:CET
DTSTART:20261025T010000
END:STANDARD
END:VTIMEZONE
BEGIN:VEVENT
DTSTART;TZID=Europe/Berlin:20250211T180000
DTEND;TZID=Europe/Berlin:20250211T210000
DTSTAMP:20260422T003827
CREATED:20250208T114114Z
LAST-MODIFIED:20250208T114143Z
UID:8223-1739296800-1739307600@binvest-ev.org
SUMMARY:BVH Portfolio Challenge
DESCRIPTION:Mach mit bei der wikifolio Portfolio-Challenge \n\n\n\nDie BVH Challenge für junge Börsentalente. Wikifolio und der BVH bieten dir die Chance\, dein Investment-Know-how unter Beweis zu stellen und tolle Preise abzuräumen. \n\n\n\nRaum: X-E0-208
URL:https://binvest-ev.org/event/bvh-portfolio-challenge-6/
END:VEVENT
BEGIN:VEVENT
DTSTART;TZID=Europe/Berlin:20250213T180000
DTEND;TZID=Europe/Berlin:20250213T210000
DTSTAMP:20260422T003827
CREATED:20250208T115106Z
LAST-MODIFIED:20250208T115106Z
UID:8230-1739469600-1739480400@binvest-ev.org
SUMMARY:Exkursion Düsseldorf: Forum Bundesbank
DESCRIPTION:Thema: „Das deutsche Finanzsystem hat den Zinsanstieg gut verarbeitet – Welche Risiken sollten wir dennoch im Blick behalten?“ \n\n\n\nDas deutsche Finanzsystem hat die Zinsanstiegsphase bis Juni 2023 insgesamt gut verkraftet. Dennoch bestehen auch nach den Leitzinssenkungen der EZB noch immer substanzielle Verwundbarkeiten. Diese resultieren unter anderem aus der schwierigen konjunkturellen Lage\, der Preisentwicklung am Gewerbeimmobilienmarkt und den geopolitischen Spannungen. Darüber hinaus zeigen sich neue strukturelle Entwicklungen im Finanzsystem\, beispielsweise werden Nichtbank-Finanzintermediäre immer relevanter. \n\n\n\nWas bedeutet all dies für die Stabilität des deutschen Finanzsystems? Ist es widerstandsfähig genug\, um mit den Herausforderungen umzugehen und seine gesamtwirtschaftlich zentrale Rolle zu erfüllen? \n\n\n\nDiesen und weiteren Fragen geht Dr. Benjamin Weigert bei der Vorstellung des Finanzstabilitätsberichts 2024 der Bundesbank nach. \n\n\n\nAnmeldungen bitte an: info@binvest-ev.org
URL:https://binvest-ev.org/event/exkursion-duesseldorf-forum-bundesbank-2/
END:VEVENT
END:VCALENDAR