BEGIN:VCALENDAR
VERSION:2.0
PRODID:-//BInvest - ECPv6.15.20//NONSGML v1.0//EN
CALSCALE:GREGORIAN
METHOD:PUBLISH
X-WR-CALNAME:BInvest
X-ORIGINAL-URL:https://binvest-ev.org
X-WR-CALDESC:Veranstaltungen für BInvest
REFRESH-INTERVAL;VALUE=DURATION:PT1H
X-Robots-Tag:noindex
X-PUBLISHED-TTL:PT1H
BEGIN:VTIMEZONE
TZID:Europe/Berlin
BEGIN:DAYLIGHT
TZOFFSETFROM:+0100
TZOFFSETTO:+0200
TZNAME:CEST
DTSTART:20240331T010000
END:DAYLIGHT
BEGIN:STANDARD
TZOFFSETFROM:+0200
TZOFFSETTO:+0100
TZNAME:CET
DTSTART:20241027T010000
END:STANDARD
BEGIN:DAYLIGHT
TZOFFSETFROM:+0100
TZOFFSETTO:+0200
TZNAME:CEST
DTSTART:20250330T010000
END:DAYLIGHT
BEGIN:STANDARD
TZOFFSETFROM:+0200
TZOFFSETTO:+0100
TZNAME:CET
DTSTART:20251026T010000
END:STANDARD
BEGIN:DAYLIGHT
TZOFFSETFROM:+0100
TZOFFSETTO:+0200
TZNAME:CEST
DTSTART:20260329T010000
END:DAYLIGHT
BEGIN:STANDARD
TZOFFSETFROM:+0200
TZOFFSETTO:+0100
TZNAME:CET
DTSTART:20261025T010000
END:STANDARD
END:VTIMEZONE
BEGIN:VEVENT
DTSTART;TZID=Europe/Berlin:20250408T180000
DTEND;TZID=Europe/Berlin:20250408T210000
DTSTAMP:20260421T213259
CREATED:20250408T201013Z
LAST-MODIFIED:20250408T201014Z
UID:8259-1744135200-1744146000@binvest-ev.org
SUMMARY:BVH Portfolio Challenge
DESCRIPTION:Mach mit bei der wikifolio Portfolio-Challenge \n\n\n\nDie BVH Challenge für junge Börsentalente. Wikifolio und der BVH bieten dir die Chance\, dein Investment-Know-how unter Beweis zu stellen und tolle Preise abzuräumen. \n\n\n\nRaum: X-E0-214
URL:https://binvest-ev.org/event/bvh-portfolio-challenge-7/
END:VEVENT
BEGIN:VEVENT
DTSTART;TZID=Europe/Berlin:20250415T180000
DTEND;TZID=Europe/Berlin:20250415T210000
DTSTAMP:20260421T213259
CREATED:20250408T201051Z
LAST-MODIFIED:20250408T201057Z
UID:8261-1744740000-1744750800@binvest-ev.org
SUMMARY:BVH Portfolio Challenge
DESCRIPTION:Mach mit bei der wikifolio Portfolio-Challenge \n\n\n\nDie BVH Challenge für junge Börsentalente. Wikifolio und der BVH bieten dir die Chance\, dein Investment-Know-how unter Beweis zu stellen und tolle Preise abzuräumen. \n\n\n\nRaum: X-E0-214
URL:https://binvest-ev.org/event/bvh-portfolio-challenge-8/
END:VEVENT
BEGIN:VEVENT
DTSTART;TZID=Europe/Berlin:20250422T190000
DTEND;TZID=Europe/Berlin:20250422T210000
DTSTAMP:20260421T213259
CREATED:20250408T200549Z
LAST-MODIFIED:20250408T200550Z
UID:8255-1745348400-1745355600@binvest-ev.org
SUMMARY:BInvest & Friends
DESCRIPTION:Ort: ALEX Bielefeld \n\n\n\n \n\n\n\nLiebe Mitglieder\, \n\n\n\nIhr seid herzlich eingeladen\, unseren kommenden Investment-Stammtisch zu besuchen und Eure finanziellen Ziele auf ein neues Level zu heben! Taucht ein in ein engagiertes Netzwerk von gleichgesinnten Studierenden\, tauscht Wissen aus und entdeckt gemeinsam neue Anlagemöglichkeiten. \n\n\n\n✅ Erweitert Euer Wissen: Gemeinsam erkunden wir verschiedene Investmentstrategien\, diskutieren aktuelle Finanzthemen und teilen praktische Erfahrungen. \n\n\n\n✅ Knüpft wertvolle Kontakte: Nutzt die Gelegenheit\, Euch mit anderen Studierenden der Universität Bielefeld zu vernetzen\, Ideen auszutauschen und langfristige Beziehungen aufzubauen. \n\n\n\n✅ Stärkt Eure finanzielle Zukunft: Lernt\, wie Ihr Euer Geld sinnvoll investieren könnt\, um finanzielle Unabhängigkeit zu erreichen und langfristigen Wohlstand aufzubauen. \n\n\n\nMacht den ersten Schritt zu Eurem finanziellen Erfolg und sichert Euch Eure Plätze! Markiert den kommenden Dienstag in Eurem Kalender und nehmt am Investment-Stammtisch teil. \n\n\n\nWir freuen uns auf einen inspirierenden und erkenntnisreichen Abend mit Euch!x
URL:https://binvest-ev.org/event/binvest-friends-6/
LOCATION:ALEX Bielefeld\, Obernstraße 18-20\, Bielefeld\, 33602
END:VEVENT
BEGIN:VEVENT
DTSTART;TZID=Europe/Berlin:20250429T180000
DTEND;TZID=Europe/Berlin:20250429T204500
DTSTAMP:20260421T213259
CREATED:20250422T203114Z
LAST-MODIFIED:20250422T203116Z
UID:8273-1745949600-1745959500@binvest-ev.org
SUMMARY:Exkursion: Essener Anlegerforum der DSW mit CECONOMY AG und thyssenkrupp nucera
DESCRIPTION:Börsennotierte Unternehmen präsentieren sich vor Ort und stellen sich den Fragen der Anleger.  \n\n\n\nWir fahren gemeinsam dahin. Bei Interesse eine Mail an: info@binvest-ev.org
URL:https://binvest-ev.org/event/exkursion-essener-anlegerforum-der-dsw-mit-ceconomy-ag-und-thyssenkrupp-nucera/
END:VEVENT
END:VCALENDAR