BEGIN:VCALENDAR
VERSION:2.0
PRODID:-//BInvest - ECPv6.15.20//NONSGML v1.0//EN
CALSCALE:GREGORIAN
METHOD:PUBLISH
X-ORIGINAL-URL:https://binvest-ev.org
X-WR-CALDESC:Veranstaltungen für BInvest
REFRESH-INTERVAL;VALUE=DURATION:PT1H
X-Robots-Tag:noindex
X-PUBLISHED-TTL:PT1H
BEGIN:VTIMEZONE
TZID:Europe/Berlin
BEGIN:DAYLIGHT
TZOFFSETFROM:+0100
TZOFFSETTO:+0200
TZNAME:CEST
DTSTART:20240331T010000
END:DAYLIGHT
BEGIN:STANDARD
TZOFFSETFROM:+0200
TZOFFSETTO:+0100
TZNAME:CET
DTSTART:20241027T010000
END:STANDARD
BEGIN:DAYLIGHT
TZOFFSETFROM:+0100
TZOFFSETTO:+0200
TZNAME:CEST
DTSTART:20250330T010000
END:DAYLIGHT
BEGIN:STANDARD
TZOFFSETFROM:+0200
TZOFFSETTO:+0100
TZNAME:CET
DTSTART:20251026T010000
END:STANDARD
BEGIN:DAYLIGHT
TZOFFSETFROM:+0100
TZOFFSETTO:+0200
TZNAME:CEST
DTSTART:20260329T010000
END:DAYLIGHT
BEGIN:STANDARD
TZOFFSETFROM:+0200
TZOFFSETTO:+0100
TZNAME:CET
DTSTART:20261025T010000
END:STANDARD
END:VTIMEZONE
BEGIN:VEVENT
DTSTART;TZID=Europe/Berlin:20250506T180000
DTEND;TZID=Europe/Berlin:20250506T210000
DTSTAMP:20260421T195128
CREATED:20250408T201322Z
LAST-MODIFIED:20250408T201323Z
UID:8267-1746554400-1746565200@binvest-ev.org
SUMMARY:BVH Portfolio Challenge
DESCRIPTION:Mach mit bei der wikifolio Portfolio-Challenge \n\n\n\nDie BVH Challenge für junge Börsentalente. Wikifolio und der BVH bieten dir die Chance\, dein Investment-Know-how unter Beweis zu stellen und tolle Preise abzuräumen. \n\n\n\nRaum: X-E0-214
URL:https://binvest-ev.org/event/bvh-portfolio-challenge-11/
END:VEVENT
BEGIN:VEVENT
DTSTART;TZID=Europe/Berlin:20250507T181500
DTEND;TZID=Europe/Berlin:20250507T200000
DTSTAMP:20260421T195128
CREATED:20250405T205214Z
LAST-MODIFIED:20250405T205216Z
UID:8241-1746641700-1746648000@binvest-ev.org
SUMMARY:BVH Börsenführerschein – Teil 1
DESCRIPTION:📊💼 Börse\, Kapitalmarkt und Handel: Eine Reise durch die Geschichte und aktuelle Entwicklungen 🚀📉 \n\n\n\nRaum: X-E0-205 \n\n\n\nDie vier aufeinander aufbauenden Vorträge bilden die solide Wissensbasis für dieses Zertifikat. Wenn ihr an den Vorträgen „Börse\, Kapitalmarkt und Handel“\, „Aktien\, Renten und Fonds“\, „Optionen und Zertifikate“ sowie „Anlagephilosophien und Börsenpsychologie“ teilnehmt und das gewonnene Wissen verinnerlicht habt\, seid ihr bestens gerüstet! \n\n\n\nUm das Zertifikat zu erhalten\, müsst ihr einen umfassenden Test mit 40 Fragen erfolgreich bestehen. Dieser Test wird euer Verständnis für die Materie prüfen und eure neu gewonnenen Finanzkenntnisse auf die Probe stellen. \n\n\n\nDie Teilnahme an diesem Zertifikatsprogramm ist nicht nur eine großartige Möglichkeit\, eure Finanzkompetenz zu zeigen\, sondern auch eine Bereicherung für eure persönliche und berufliche Entwicklung. \n\n\n\nMacht euch bereit\, eure Expertise im Finanzbereich zu zertifizieren und zeigt der Welt\, dass ihr echte Finanzchampions seid!
URL:https://binvest-ev.org/event/bvh-boersenfuehrerschein-teil-1-2/
END:VEVENT
BEGIN:VEVENT
DTSTART;TZID=Europe/Berlin:20250513T180000
DTEND;TZID=Europe/Berlin:20250513T210000
DTSTAMP:20260421T195128
CREATED:20250408T201349Z
LAST-MODIFIED:20250408T201351Z
UID:8269-1747159200-1747170000@binvest-ev.org
SUMMARY:BVH Portfolio Challenge
DESCRIPTION:Mach mit bei der wikifolio Portfolio-Challenge \n\n\n\nDie BVH Challenge für junge Börsentalente. Wikifolio und der BVH bieten dir die Chance\, dein Investment-Know-how unter Beweis zu stellen und tolle Preise abzuräumen. \n\n\n\nRaum: X-E0-214
URL:https://binvest-ev.org/event/bvh-portfolio-challenge-12/
END:VEVENT
BEGIN:VEVENT
DTSTART;TZID=Europe/Berlin:20250514T181500
DTEND;TZID=Europe/Berlin:20250514T200000
DTSTAMP:20260421T195128
CREATED:20250405T205342Z
LAST-MODIFIED:20250405T205343Z
UID:8243-1747246500-1747252800@binvest-ev.org
SUMMARY:BVH Börsenführerschein – Teil 2
DESCRIPTION:📈🏦 Aktien\, Renten und Fonds: Ein Blick hinter die Kulissen der Finanzwelt 💼📊 \n\n\n\nRaum: X-E0-205 \n\n\n\nObwohl bei vielen Unternehmen ein fundiertes Wissen über die Finanzsysteme vorausgesetzt wird und auch im täglichen Leben jedem solche Themen häufig begegnen\, wird die Börse und die Funktionsweise des Kapitalmarkts in der Bildung häufig zu wenig behandelt. Aus diesem Grund hat sich der BVH zum Ziel gesetzt\, seinen Mitgliedern ein fundiertes Wissen zu diesen komplexen Themengebieten zu ermöglichen. Der BVH Börsenführerschein ist dabei mehr als eine Einführung in die Themenwelt der Börse: Für alle Absolventen soll er das Fundament für ein tieferes Verständnis der ebenso interessanten wie komplexen Materie Kapitalmarkt legen. \n\n\n\nIm zweiten Vortrag des Börsenführerscheins tauchen wir tief in die Welt der Wertpapiere ein\, um die verschiedenen Aktiengattungen und ihre Rechte\, Pflichten und Risiken zu beleuchten\, die Funktionsweise von Anleihen zu verstehen und uns einen Überblick über verschiedenste Fondsarten\, Ratings\, Gebühren und die tatsächlichen Renditen zu verschaffen.
URL:https://binvest-ev.org/event/bvh-boersenfuehrerschein-teil-2-3/
END:VEVENT
BEGIN:VEVENT
DTSTART;TZID=Europe/Berlin:20250521T181500
DTEND;TZID=Europe/Berlin:20250521T200000
DTSTAMP:20260421T195128
CREATED:20250405T205459Z
LAST-MODIFIED:20250405T205500Z
UID:8245-1747851300-1747857600@binvest-ev.org
SUMMARY:BVH Börsenführerschein – Teil 3
DESCRIPTION:📈🛠️ Optionen und Zertifikate: Tiefere Einblicke in Derivate und ihre Vielfalt 💼📊 \n\n\n\nRaum: X-E0-205 \n\n\n\nObwohl bei vielen Unternehmen ein fundiertes Wissen über die Finanzsysteme vorausgesetzt wird und auch im täglichen Leben jedem solche Themen häufig begegnen\, wird die Börse und die Funktionsweise des Kapitalmarkts in der Bildung häufig zu wenig behandelt. Aus diesem Grund hat sich der BVH zum Ziel gesetzt\, seinen Mitgliedern ein fundiertes Wissen zu diesen komplexen Themengebieten zu ermöglichen. Der BVH Börsenführerschein ist dabei mehr als eine Einführung in die Themenwelt der Börse: Für alle Absolventen soll er das Fundament für ein tieferes Verständnis der ebenso interessanten wie komplexen Materie Kapitalmarkt legen. \n\n\n\nIm dritten Vortrag des Börsenführerscheins werden wir in die spannende Welt der Derivate eintauchen\, die Besonderheiten von Optionen erforschen\, uns mit den Unterschieden zwischen diesen Finanzinstrumenten vertraut machen und gleichzeitig das Thema Hebelwirkung und Volatilität nicht aus den Augen verlieren. Wir werden auch den Aufbau von Zertifikaten ergründen und dabei sowohl die Chancen als auch die Risiken aufdecken.
URL:https://binvest-ev.org/event/bvh-boersenfuehrerschein-teil-3-3/
END:VEVENT
BEGIN:VEVENT
DTSTART;TZID=Europe/Berlin:20250528T181500
DTEND;TZID=Europe/Berlin:20250528T200000
DTSTAMP:20260421T195128
CREATED:20250405T205614Z
LAST-MODIFIED:20250405T210232Z
UID:8247-1748456100-1748462400@binvest-ev.org
SUMMARY:BVH Börsenführerschein – Teil 4
DESCRIPTION:📊🧠 Anlagephilosophie & Börsenpsychologie: Zwischen Rationalität und Emotionen an den Märkten 💼📈 \n\n\n\nRaum: X-E0-205 \n\n\n\nObwohl Finanzentscheidungen unser tägliches Leben maßgeblich beeinflussen – sei es durch Altersvorsorge\, Sparverhalten oder Konsum – fehlt es häufig an einem tiefgreifenden Verständnis darüber\, wie Anlageentscheidungen wirklich getroffen werden sollten. In Unternehmen wird oft ein gewisses Maß an Finanzwissen vorausgesetzt\, doch gerade die psychologischen Aspekte der Geldanlage bleiben oft unbeachtet. Wir haben es uns daher zur Aufgabe gemacht\, mit dem Börsenführerschein nicht nur Faktenwissen zu vermitteln\, sondern auch den Blick für die weichen Faktoren des Kapitalmarkts zu schärfen. \n\n\n\nIm abschließenden Vortrag des Börsenführerscheins tauchen wir tief in die Welt der Anlagephilosophien ein – von langfristig orientierten Strategien wie dem Value Investing bis hin zu modernen Ansätzen der Behavioral Finance. Was treibt Anleger an? Welche Denkfehler und Emotionen beeinflussen Entscheidungen an der Börse? Wir analysieren\, wie Gier\, Angst\, Überoptimismus oder Herdenverhalten die Märkte bewegen – und wie man als informierter Anleger klügere Entscheidungen treffen kann. \n\n\n\nNeben klassischen Bewertungsmethoden werfen wir auch einen Blick auf die Psychologie hinter Kursbewegungen und betrachten die oft unterschätzte Rolle von Emotionen beim Investieren. Unser Ziel: Ein tieferes Verständnis für das Zusammenspiel zwischen rationaler Analyse und menschlichem Verhalten zu schaffen – und so das Fundament für eine reflektierte\, nachhaltige Anlagestrategie zu legen.
URL:https://binvest-ev.org/event/bvh-boersenfuehrerschein-teil-4-3/
END:VEVENT
END:VCALENDAR