BEGIN:VCALENDAR
VERSION:2.0
PRODID:-//BInvest - ECPv6.15.20//NONSGML v1.0//EN
CALSCALE:GREGORIAN
METHOD:PUBLISH
X-ORIGINAL-URL:https://binvest-ev.org
X-WR-CALDESC:Veranstaltungen für BInvest
REFRESH-INTERVAL;VALUE=DURATION:PT1H
X-Robots-Tag:noindex
X-PUBLISHED-TTL:PT1H
BEGIN:VTIMEZONE
TZID:Europe/Berlin
BEGIN:DAYLIGHT
TZOFFSETFROM:+0100
TZOFFSETTO:+0200
TZNAME:CEST
DTSTART:20240331T010000
END:DAYLIGHT
BEGIN:STANDARD
TZOFFSETFROM:+0200
TZOFFSETTO:+0100
TZNAME:CET
DTSTART:20241027T010000
END:STANDARD
BEGIN:DAYLIGHT
TZOFFSETFROM:+0100
TZOFFSETTO:+0200
TZNAME:CEST
DTSTART:20250330T010000
END:DAYLIGHT
BEGIN:STANDARD
TZOFFSETFROM:+0200
TZOFFSETTO:+0100
TZNAME:CET
DTSTART:20251026T010000
END:STANDARD
BEGIN:DAYLIGHT
TZOFFSETFROM:+0100
TZOFFSETTO:+0200
TZNAME:CEST
DTSTART:20260329T010000
END:DAYLIGHT
BEGIN:STANDARD
TZOFFSETFROM:+0200
TZOFFSETTO:+0100
TZNAME:CET
DTSTART:20261025T010000
END:STANDARD
END:VTIMEZONE
BEGIN:VEVENT
DTSTART;TZID=Europe/Berlin:20250801T170000
DTEND;TZID=Europe/Berlin:20250801T220000
DTSTAMP:20260421T145748
CREATED:20250706T101447Z
LAST-MODIFIED:20250706T101448Z
UID:8308-1754067600-1754085600@binvest-ev.org
SUMMARY:Sommerfest + Mitgliederversammlung 2025
DESCRIPTION:Unsere nächste Mitgliederversammlung findet am 1. August 2025 um 17 Uhr in der Universität Bielefeld statt. \n\n\n\nAlle Mitglieder erhalten eine Mail mit der offiziellen Einladung und der vorläufigen Tagesordnung sowie die aktuelle Satzung und Geschäftsordnung des Vereins. \n\n\n\nEtwaige Anträge zu dieser Mitgliederversammlung bitte wir euch bis zum 20. August 2025 per E-Mail bei uns (info@binvest-ev.org) einzureichen. \n\n\n\n \n\n\n\nAnschließend laden wir euch herzlich zu unserem bevorstehenden Sommersfest des BInvest ein!  \n\n\n\n🎊 Gemeinschaft stärken: Unser Sommersfest bietet die perfekte Gelegenheit\, um eure Verbindungen innerhalb der BInvest-Community zu vertiefen. Tauscht Ideen aus\, knüpft neue Kontakte und genießt die Gesellschaft von Gleichgesinnten in entspannter Atmosphäre. \n\n\n\n🦗Grillen: Wir werden gemeinsam grillen. Für essen und Getränke ist gesorgt. Ihr müsst nur noch die gute Stimmung mitbringen! \n\n\n\nMerkt euch das Datum vor und seid dabei! Das BInvest Sommersfest verspricht ein Tag voller Freude\, Networking und Sommerstimmung zu werden. \n\n\n\nWir freuen uns darauf\, gemeinsam mit euch eine unvergessliche Zeit zu verbringen!
URL:https://binvest-ev.org/event/sommerfest-mitgliederversammlung-2025/
END:VEVENT
BEGIN:VEVENT
DTSTART;TZID=Europe/Berlin:20250805T180000
DTEND;TZID=Europe/Berlin:20250805T200000
DTSTAMP:20260421T145748
CREATED:20250722T191052Z
LAST-MODIFIED:20250722T191054Z
UID:8313-1754416800-1754424000@binvest-ev.org
SUMMARY:BVH Portfolio Challenge
DESCRIPTION:Mach mit bei der wikifolio Portfolio-Challenge \n\n\n\nDie BVH Challenge für junge Börsentalente. Wikifolio und der BVH bieten dir die Chance\, dein Investment-Know-how unter Beweis zu stellen und tolle Preise abzuräumen. \n\n\n\nRaum: X-E0-211
URL:https://binvest-ev.org/event/bvh-portfolio-challenge-13/
END:VEVENT
BEGIN:VEVENT
DTSTART;TZID=Europe/Berlin:20250812T180000
DTEND;TZID=Europe/Berlin:20250812T200000
DTSTAMP:20260421T145748
CREATED:20250722T191124Z
LAST-MODIFIED:20250722T191129Z
UID:8315-1755021600-1755028800@binvest-ev.org
SUMMARY:BVH Portfolio Challenge
DESCRIPTION:Mach mit bei der wikifolio Portfolio-Challenge \n\n\n\nDie BVH Challenge für junge Börsentalente. Wikifolio und der BVH bieten dir die Chance\, dein Investment-Know-how unter Beweis zu stellen und tolle Preise abzuräumen. \n\n\n\nRaum: X-E0-211
URL:https://binvest-ev.org/event/bvh-portfolio-challenge-14/
END:VEVENT
BEGIN:VEVENT
DTSTART;TZID=Europe/Berlin:20250819T180000
DTEND;TZID=Europe/Berlin:20250819T200000
DTSTAMP:20260421T145748
CREATED:20250722T191335Z
LAST-MODIFIED:20250722T191336Z
UID:8317-1755626400-1755633600@binvest-ev.org
SUMMARY:BVH Portfolio Challenge
DESCRIPTION:Mach mit bei der wikifolio Portfolio-Challenge \n\n\n\nDie BVH Challenge für junge Börsentalente. Wikifolio und der BVH bieten dir die Chance\, dein Investment-Know-how unter Beweis zu stellen und tolle Preise abzuräumen. \n\n\n\nRaum: X-E0-211
URL:https://binvest-ev.org/event/bvh-portfolio-challenge-15/
END:VEVENT
BEGIN:VEVENT
DTSTART;TZID=Europe/Berlin:20250826T180000
DTEND;TZID=Europe/Berlin:20250826T200000
DTSTAMP:20260421T145748
CREATED:20250722T191405Z
LAST-MODIFIED:20250722T191406Z
UID:8319-1756231200-1756238400@binvest-ev.org
SUMMARY:BVH Portfolio Challenge
DESCRIPTION:Mach mit bei der wikifolio Portfolio-Challenge \n\n\n\nDie BVH Challenge für junge Börsentalente. Wikifolio und der BVH bieten dir die Chance\, dein Investment-Know-how unter Beweis zu stellen und tolle Preise abzuräumen. \n\n\n\nRaum: X-E0-211
URL:https://binvest-ev.org/event/bvh-portfolio-challenge-16/
END:VEVENT
END:VCALENDAR