BEGIN:VCALENDAR
VERSION:2.0
PRODID:-//BInvest - ECPv6.15.20//NONSGML v1.0//EN
CALSCALE:GREGORIAN
METHOD:PUBLISH
X-WR-CALNAME:BInvest
X-ORIGINAL-URL:https://binvest-ev.org
X-WR-CALDESC:Veranstaltungen für BInvest
REFRESH-INTERVAL;VALUE=DURATION:PT1H
X-Robots-Tag:noindex
X-PUBLISHED-TTL:PT1H
BEGIN:VTIMEZONE
TZID:Europe/Berlin
BEGIN:DAYLIGHT
TZOFFSETFROM:+0100
TZOFFSETTO:+0200
TZNAME:CEST
DTSTART:20240331T010000
END:DAYLIGHT
BEGIN:STANDARD
TZOFFSETFROM:+0200
TZOFFSETTO:+0100
TZNAME:CET
DTSTART:20241027T010000
END:STANDARD
BEGIN:DAYLIGHT
TZOFFSETFROM:+0100
TZOFFSETTO:+0200
TZNAME:CEST
DTSTART:20250330T010000
END:DAYLIGHT
BEGIN:STANDARD
TZOFFSETFROM:+0200
TZOFFSETTO:+0100
TZNAME:CET
DTSTART:20251026T010000
END:STANDARD
BEGIN:DAYLIGHT
TZOFFSETFROM:+0100
TZOFFSETTO:+0200
TZNAME:CEST
DTSTART:20260329T010000
END:DAYLIGHT
BEGIN:STANDARD
TZOFFSETFROM:+0200
TZOFFSETTO:+0100
TZNAME:CET
DTSTART:20261025T010000
END:STANDARD
END:VTIMEZONE
BEGIN:VEVENT
DTSTART;TZID=Europe/Berlin:20251014T180000
DTEND;TZID=Europe/Berlin:20251014T200000
DTSTAMP:20260421T115841
CREATED:20250930T154743Z
LAST-MODIFIED:20251002T171157Z
UID:8633-1760464800-1760472000@binvest-ev.org
SUMMARY:BInvest & Friends - Jalapeño
DESCRIPTION:📢 Verpasst nicht unseren Stammtisch! 📢 \n\n\n\nLiebe Mitglieder\, \n\n\n\nIhr seid herzlich eingeladen\, unseren kommenden Investment-Stammtisch zu besuchen und Eure finanziellen Ziele auf ein neues Level zu heben! Taucht ein in ein engagiertes Netzwerk von gleichgesinnten Studierenden\, tauscht Wissen aus und entdeckt gemeinsam neue Anlagemöglichkeiten. \n\n\n\n✅ Erweitert Euer Wissen: Gemeinsam erkunden wir verschiedene Investmentstrategien\, diskutieren aktuelle Finanzthemen und teilen praktische Erfahrungen. \n\n\n\n✅ Knüpft wertvolle Kontakte: Nutzt die Gelegenheit\, Euch mit anderen Studierenden der Universität Bielefeld zu vernetzen\, Ideen auszutauschen und langfristige Beziehungen aufzubauen. \n\n\n\n✅ Stärkt Eure finanzielle Zukunft: Lernt\, wie Ihr Euer Geld sinnvoll investieren könnt\, um finanzielle Unabhängigkeit zu erreichen und langfristigen Wohlstand aufzubauen. \n\n\n\nMacht den ersten Schritt zu Eurem finanziellen Erfolg und sichert Euch Eure Plätze! Markiert den jeden zweiten Dienstag in Eurem Kalender und nehmt am Stammtisch teil. \n\n\n\nWir freuen uns auf Euch!
URL:https://binvest-ev.org/event/binvest-friends-9/
LOCATION:Jalapeño\, Hagenbruchstraße 3\,\, Bielefeld\, NRW\, 33602\, Germany
ORGANIZER;CN="BInvest e.V.":MAILTO:info@binvest-ev.org
END:VEVENT
BEGIN:VEVENT
DTSTART;TZID=Europe/Berlin:20251030T170000
DTEND;TZID=Europe/Berlin:20251030T190000
DTSTAMP:20260421T115841
CREATED:20251002T172543Z
LAST-MODIFIED:20251002T183744Z
UID:8648-1761843600-1761850800@binvest-ev.org
SUMMARY:BInvest Social - Bowling
DESCRIPTION:Business as usual gehen wir im STRIKE am Boulevard bowlen. Wir haben noch freie Plätze! Wer möchte darf gerne mitkommen und Kommilitonen mitbringen. Die Kosten für die Bahnen werden vom Verein übernommen.Bitte meldet euch an über die info@binvest-ev.org an. \n\n\n\nAnmeldeschluss ist 26.10.
URL:https://binvest-ev.org/event/binvest-social-bowling-3/
LOCATION:The Strike\, Boulevard 3\, Bielefeld\, 33613\, Deutschland
ORGANIZER;CN="BInvest e.V.":MAILTO:info@binvest-ev.org
END:VEVENT
END:VCALENDAR